BEGIN:VCALENDAR
VERSION:2.0
PRODID:-//Oude Kerk Scheveningen - ECPv6.15.17.1//NONSGML v1.0//EN
CALSCALE:GREGORIAN
METHOD:PUBLISH
X-ORIGINAL-URL:https://www.oudekerkscheveningen.nl
X-WR-CALDESC:Evenementen voor Oude Kerk Scheveningen
REFRESH-INTERVAL;VALUE=DURATION:PT1H
X-Robots-Tag:noindex
X-PUBLISHED-TTL:PT1H
BEGIN:VTIMEZONE
TZID:UTC
BEGIN:STANDARD
TZOFFSETFROM:+0000
TZOFFSETTO:+0000
TZNAME:UTC
DTSTART:20190101T000000
END:STANDARD
END:VTIMEZONE
BEGIN:VEVENT
DTSTART;TZID=UTC:20200906T103000
DTEND;TZID=UTC:20200906T103000
DTSTAMP:20260423T204212
CREATED:20200302T090915Z
LAST-MODIFIED:20201124T204212Z
UID:1832-1599388200-1599388200@www.oudekerkscheveningen.nl
SUMMARY:Ds. F.J. van Harten (Den Haag)
DESCRIPTION:
URL:https://www.oudekerkscheveningen.nl/event/ds-f-j-van-harte-den-haag/
LOCATION:Oude Kerk Scheveningen\, Keizerstraat 8\, Scheveningen\, 2584 BJ
CATEGORIES:Kerkdienst
END:VEVENT
BEGIN:VEVENT
DTSTART;TZID=UTC:20200913T103000
DTEND;TZID=UTC:20200913T103000
DTSTAMP:20260423T204212
CREATED:20200302T091107Z
LAST-MODIFIED:20201124T204059Z
UID:1835-1599993000-1599993000@www.oudekerkscheveningen.nl
SUMMARY:Ds. B.H. Weegink. v.b. H.A.
DESCRIPTION:
URL:https://www.oudekerkscheveningen.nl/event/ds-b-h-weegink-v-b-h-a/
LOCATION:Oude Kerk Scheveningen\, Keizerstraat 8\, Scheveningen\, 2584 BJ
CATEGORIES:Kerkdienst
END:VEVENT
BEGIN:VEVENT
DTSTART;TZID=UTC:20200920T103000
DTEND;TZID=UTC:20200920T103000
DTSTAMP:20260423T204212
CREATED:20200302T091157Z
LAST-MODIFIED:20201124T204059Z
UID:1837-1600597800-1600597800@www.oudekerkscheveningen.nl
SUMMARY:Ds. B.H. Weegink. H.A.
DESCRIPTION:
URL:https://www.oudekerkscheveningen.nl/event/ds-b-h-weegink-h-a-2/
LOCATION:Oude Kerk Scheveningen\, Keizerstraat 8\, Scheveningen\, 2584 BJ
CATEGORIES:Kerkdienst
END:VEVENT
BEGIN:VEVENT
DTSTART;TZID=UTC:20200927T103000
DTEND;TZID=UTC:20200927T103000
DTSTAMP:20260423T204212
CREATED:20200302T091338Z
LAST-MODIFIED:20201124T204212Z
UID:1839-1601202600-1601202600@www.oudekerkscheveningen.nl
SUMMARY:Ds. C. van Andel (Amsterdam)
DESCRIPTION:
URL:https://www.oudekerkscheveningen.nl/event/ds-a-van-vuuren/
LOCATION:Oude Kerk Scheveningen\, Keizerstraat 8\, Scheveningen\, 2584 BJ
CATEGORIES:Kerkdienst
END:VEVENT
END:VCALENDAR