BEGIN:VCALENDAR
VERSION:2.0
PRODID:-//Oude Kerk Scheveningen - ECPv6.15.17.1//NONSGML v1.0//EN
CALSCALE:GREGORIAN
METHOD:PUBLISH
X-ORIGINAL-URL:https://www.oudekerkscheveningen.nl
X-WR-CALDESC:Evenementen voor Oude Kerk Scheveningen
REFRESH-INTERVAL;VALUE=DURATION:PT1H
X-Robots-Tag:noindex
X-PUBLISHED-TTL:PT1H
BEGIN:VTIMEZONE
TZID:UTC
BEGIN:STANDARD
TZOFFSETFROM:+0000
TZOFFSETTO:+0000
TZNAME:UTC
DTSTART:20190101T000000
END:STANDARD
END:VTIMEZONE
BEGIN:VEVENT
DTSTART;TZID=UTC:20201004T103000
DTEND;TZID=UTC:20201004T103000
DTSTAMP:20260423T191047
CREATED:20200302T091527Z
LAST-MODIFIED:20201124T204212Z
UID:1841-1601807400-1601807400@www.oudekerkscheveningen.nl
SUMMARY:Ds. A.W. vd Plas (Waddinxveen) Israëlzondag
DESCRIPTION:
URL:https://www.oudekerkscheveningen.nl/event/ds-a-w-vd-plas-waddinxveen-israelzondag/
LOCATION:Oude Kerk Scheveningen\, Keizerstraat 8\, Scheveningen\, 2584 BJ
CATEGORIES:Kerkdienst
END:VEVENT
BEGIN:VEVENT
DTSTART;TZID=UTC:20201011T103000
DTEND;TZID=UTC:20201011T120000
DTSTAMP:20260423T191047
CREATED:20200302T091609Z
LAST-MODIFIED:20201124T204059Z
UID:1843-1602412200-1602417600@www.oudekerkscheveningen.nl
SUMMARY:Ds. B.H. Weegink.
DESCRIPTION:
URL:https://www.oudekerkscheveningen.nl/event/ds-b-h-weegink-11/
LOCATION:Oude Kerk Scheveningen\, Keizerstraat 8\, Scheveningen\, 2584 BJ
CATEGORIES:Kerkdienst
END:VEVENT
BEGIN:VEVENT
DTSTART;TZID=UTC:20201018T103000
DTEND;TZID=UTC:20201018T103000
DTSTAMP:20260423T191047
CREATED:20200302T091748Z
LAST-MODIFIED:20201124T204212Z
UID:1845-1603017000-1603017000@www.oudekerkscheveningen.nl
SUMMARY:Ds. J. Maasland (Den Haag)
DESCRIPTION:
URL:https://www.oudekerkscheveningen.nl/event/ds-j-maasland/
LOCATION:Oude Kerk Scheveningen\, Keizerstraat 8\, Scheveningen\, 2584 BJ
CATEGORIES:Kerkdienst
END:VEVENT
BEGIN:VEVENT
DTSTART;TZID=UTC:20201025T103000
DTEND;TZID=UTC:20201025T103000
DTSTAMP:20260423T191047
CREATED:20200302T091918Z
LAST-MODIFIED:20201124T204059Z
UID:1849-1603621800-1603621800@www.oudekerkscheveningen.nl
SUMMARY:Ds. B.H. Weegink.
DESCRIPTION:
URL:https://www.oudekerkscheveningen.nl/event/ds-b-h-weegink-12/
CATEGORIES:Kerkdienst
END:VEVENT
END:VCALENDAR