BEGIN:VCALENDAR
VERSION:2.0
PRODID:-//Oude Kerk Scheveningen - ECPv6.15.17.1//NONSGML v1.0//EN
CALSCALE:GREGORIAN
METHOD:PUBLISH
X-WR-CALNAME:Oude Kerk Scheveningen
X-ORIGINAL-URL:https://www.oudekerkscheveningen.nl
X-WR-CALDESC:Evenementen voor Oude Kerk Scheveningen
REFRESH-INTERVAL;VALUE=DURATION:PT1H
X-Robots-Tag:noindex
X-PUBLISHED-TTL:PT1H
BEGIN:VTIMEZONE
TZID:Europe/Amsterdam
BEGIN:DAYLIGHT
TZOFFSETFROM:+0100
TZOFFSETTO:+0200
TZNAME:CEST
DTSTART:20200329T010000
END:DAYLIGHT
BEGIN:STANDARD
TZOFFSETFROM:+0200
TZOFFSETTO:+0100
TZNAME:CET
DTSTART:20201025T010000
END:STANDARD
BEGIN:DAYLIGHT
TZOFFSETFROM:+0100
TZOFFSETTO:+0200
TZNAME:CEST
DTSTART:20210328T010000
END:DAYLIGHT
BEGIN:STANDARD
TZOFFSETFROM:+0200
TZOFFSETTO:+0100
TZNAME:CET
DTSTART:20211031T010000
END:STANDARD
BEGIN:DAYLIGHT
TZOFFSETFROM:+0100
TZOFFSETTO:+0200
TZNAME:CEST
DTSTART:20220327T010000
END:DAYLIGHT
BEGIN:STANDARD
TZOFFSETFROM:+0200
TZOFFSETTO:+0100
TZNAME:CET
DTSTART:20221030T010000
END:STANDARD
END:VTIMEZONE
BEGIN:VEVENT
DTSTART;TZID=Europe/Amsterdam:20210606T103000
DTEND;TZID=Europe/Amsterdam:20210606T180000
DTSTAMP:20260421T153450
CREATED:20201027T133512Z
LAST-MODIFIED:20210513T175116Z
UID:5096-1622975400-1623002400@www.oudekerkscheveningen.nl
SUMMARY:Ds. B.H. Weegink H.A.
DESCRIPTION:
URL:https://www.oudekerkscheveningen.nl/event/ds-b-h-weegink-h-a-3/
LOCATION:Oude Kerk Scheveningen\, Keizerstraat 8\, Scheveningen\, 2584 BJ
CATEGORIES:Kerkdienst
ATTACH;FMTTYPE=image/jpeg:https://www.oudekerkscheveningen.nl/wp-content/uploads/2020/10/zilver-stel.-2.jpg
END:VEVENT
BEGIN:VEVENT
DTSTART;TZID=Europe/Amsterdam:20210613T103000
DTEND;TZID=Europe/Amsterdam:20210613T180000
DTSTAMP:20260421T153450
CREATED:20201027T133621Z
LAST-MODIFIED:20210516T180221Z
UID:5098-1623580200-1623607200@www.oudekerkscheveningen.nl
SUMMARY:Ds. P.J. Stam (Katwijk)
DESCRIPTION:
URL:https://www.oudekerkscheveningen.nl/event/ds-p-j-stam-katwijk-aan-zee-3/
LOCATION:Oude Kerk Scheveningen\, Keizerstraat 8\, Scheveningen\, 2584 BJ
CATEGORIES:Kerkdienst
ATTACH;FMTTYPE=image/jpeg:https://www.oudekerkscheveningen.nl/wp-content/uploads/2020/01/oude-kerk-foto-2.jpg
END:VEVENT
BEGIN:VEVENT
DTSTART;TZID=Europe/Amsterdam:20210620T103000
DTEND;TZID=Europe/Amsterdam:20210620T180000
DTSTAMP:20260421T153450
CREATED:20201027T133723Z
LAST-MODIFIED:20210523T180246Z
UID:5100-1624185000-1624212000@www.oudekerkscheveningen.nl
SUMMARY:Ds. B.H. Weegink
DESCRIPTION:
URL:https://www.oudekerkscheveningen.nl/event/ds-b-h-weegink-15/
LOCATION:Oude Kerk Scheveningen\, Keizerstraat 8\, Scheveningen\, 2584 BJ
CATEGORIES:Kerkdienst
ATTACH;FMTTYPE=image/jpeg:https://www.oudekerkscheveningen.nl/wp-content/uploads/2020/03/DSCN4515.jpg
END:VEVENT
BEGIN:VEVENT
DTSTART;TZID=Europe/Amsterdam:20210627T103000
DTEND;TZID=Europe/Amsterdam:20210627T103000
DTSTAMP:20260421T153450
CREATED:20201027T133829Z
LAST-MODIFIED:20210620T183233Z
UID:5102-1624789800-1624789800@www.oudekerkscheveningen.nl
SUMMARY:Ds. J Quist
DESCRIPTION:
URL:https://www.oudekerkscheveningen.nl/event/ds-d-m-heikoop-katwijk-aan-zee/
LOCATION:Oude Kerk Scheveningen\, Keizerstraat 8\, Scheveningen\, 2584 BJ
CATEGORIES:Kerkdienst
ATTACH;FMTTYPE=image/jpeg:https://www.oudekerkscheveningen.nl/wp-content/uploads/2020/10/IMG_4163-1.jpg
END:VEVENT
END:VCALENDAR