BEGIN:VCALENDAR
VERSION:2.0
PRODID:-//Oude Kerk Scheveningen - ECPv6.15.17.1//NONSGML v1.0//EN
CALSCALE:GREGORIAN
METHOD:PUBLISH
X-WR-CALNAME:Oude Kerk Scheveningen
X-ORIGINAL-URL:https://www.oudekerkscheveningen.nl
X-WR-CALDESC:Evenementen voor Oude Kerk Scheveningen
REFRESH-INTERVAL;VALUE=DURATION:PT1H
X-Robots-Tag:noindex
X-PUBLISHED-TTL:PT1H
BEGIN:VTIMEZONE
TZID:Europe/Amsterdam
BEGIN:DAYLIGHT
TZOFFSETFROM:+0100
TZOFFSETTO:+0200
TZNAME:CEST
DTSTART:20200329T010000
END:DAYLIGHT
BEGIN:STANDARD
TZOFFSETFROM:+0200
TZOFFSETTO:+0100
TZNAME:CET
DTSTART:20201025T010000
END:STANDARD
BEGIN:DAYLIGHT
TZOFFSETFROM:+0100
TZOFFSETTO:+0200
TZNAME:CEST
DTSTART:20210328T010000
END:DAYLIGHT
BEGIN:STANDARD
TZOFFSETFROM:+0200
TZOFFSETTO:+0100
TZNAME:CET
DTSTART:20211031T010000
END:STANDARD
BEGIN:DAYLIGHT
TZOFFSETFROM:+0100
TZOFFSETTO:+0200
TZNAME:CEST
DTSTART:20220327T010000
END:DAYLIGHT
BEGIN:STANDARD
TZOFFSETFROM:+0200
TZOFFSETTO:+0100
TZNAME:CET
DTSTART:20221030T010000
END:STANDARD
END:VTIMEZONE
BEGIN:VEVENT
DTSTART;TZID=Europe/Amsterdam:20210801T103000
DTEND;TZID=Europe/Amsterdam:20210801T113000
DTSTAMP:20260421T124942
CREATED:20201027T134803Z
LAST-MODIFIED:20210801T101306Z
UID:5112-1627813800-1627817400@www.oudekerkscheveningen.nl
SUMMARY:Ds. J. Maasland
DESCRIPTION:
URL:https://www.oudekerkscheveningen.nl/event/ds-j-maasland-den-haag/
LOCATION:Oude Kerk Scheveningen\, Keizerstraat 8\, Scheveningen\, 2584 BJ
CATEGORIES:Kerkdienst
ATTACH;FMTTYPE=image/jpeg:https://www.oudekerkscheveningen.nl/wp-content/uploads/2020/10/OK-schip-2.jpg
END:VEVENT
BEGIN:VEVENT
DTSTART;TZID=Europe/Amsterdam:20210808T103000
DTEND;TZID=Europe/Amsterdam:20210808T123000
DTSTAMP:20260421T124942
CREATED:20201027T134915Z
LAST-MODIFIED:20210711T173007Z
UID:5114-1628418600-1628425800@www.oudekerkscheveningen.nl
SUMMARY:Ds. E. van Rooijen (Noordeloos)
DESCRIPTION:
URL:https://www.oudekerkscheveningen.nl/event/ds-e-van-rooijen-noordeloos-3/
LOCATION:Oude Kerk Scheveningen\, Keizerstraat 8\, Scheveningen\, 2584 BJ
CATEGORIES:Kerkdienst
ATTACH;FMTTYPE=image/jpeg:https://www.oudekerkscheveningen.nl/wp-content/uploads/2020/10/OK-binnen.jpg
END:VEVENT
BEGIN:VEVENT
DTSTART;TZID=Europe/Amsterdam:20210815T103000
DTEND;TZID=Europe/Amsterdam:20210815T123000
DTSTAMP:20260421T124942
CREATED:20201027T135035Z
LAST-MODIFIED:20210718T113828Z
UID:5116-1629023400-1629030600@www.oudekerkscheveningen.nl
SUMMARY:Ds. B.H. Weegink
DESCRIPTION:
URL:https://www.oudekerkscheveningen.nl/event/ds-b-h-weegink-18/
LOCATION:Oude Kerk Scheveningen\, Keizerstraat 8\, Scheveningen\, 2584 BJ
CATEGORIES:Kerkdienst
ATTACH;FMTTYPE=image/jpeg:https://www.oudekerkscheveningen.nl/wp-content/uploads/2020/10/Preekstoel-en-katheder-1.jpg
END:VEVENT
BEGIN:VEVENT
DTSTART;TZID=Europe/Amsterdam:20210822T103000
DTEND;TZID=Europe/Amsterdam:20210822T123000
DTSTAMP:20260421T124942
CREATED:20201027T135149Z
LAST-MODIFIED:20210725T101759Z
UID:5118-1629628200-1629635400@www.oudekerkscheveningen.nl
SUMMARY:Ds. J. Quist (Den Haag)
DESCRIPTION:
URL:https://www.oudekerkscheveningen.nl/event/ds-j-quist-den-haag/
LOCATION:Oude Kerk Scheveningen\, Keizerstraat 8\, Scheveningen\, 2584 BJ
CATEGORIES:Kerkdienst
ATTACH;FMTTYPE=image/jpeg:https://www.oudekerkscheveningen.nl/wp-content/uploads/2020/10/IMG_4157-1.jpg
END:VEVENT
BEGIN:VEVENT
DTSTART;TZID=Europe/Amsterdam:20210829T103000
DTEND;TZID=Europe/Amsterdam:20210829T123000
DTSTAMP:20260421T124942
CREATED:20201027T135301Z
LAST-MODIFIED:20210801T101440Z
UID:5120-1630233000-1630240200@www.oudekerkscheveningen.nl
SUMMARY:Ds. B.H. Weegink
DESCRIPTION:
URL:https://www.oudekerkscheveningen.nl/event/ds-b-h-weegink-19/
LOCATION:Oude Kerk Scheveningen\, Keizerstraat 8\, Scheveningen\, 2584 BJ
CATEGORIES:Kerkdienst
ATTACH;FMTTYPE=image/jpeg:https://www.oudekerkscheveningen.nl/wp-content/uploads/2020/10/OK-schip-2.jpg
END:VEVENT
END:VCALENDAR