BEGIN:VCALENDAR
VERSION:2.0
PRODID:-//Oude Kerk Scheveningen - ECPv6.15.17.1//NONSGML v1.0//EN
CALSCALE:GREGORIAN
METHOD:PUBLISH
X-WR-CALNAME:Oude Kerk Scheveningen
X-ORIGINAL-URL:https://www.oudekerkscheveningen.nl
X-WR-CALDESC:Evenementen voor Oude Kerk Scheveningen
REFRESH-INTERVAL;VALUE=DURATION:PT1H
X-Robots-Tag:noindex
X-PUBLISHED-TTL:PT1H
BEGIN:VTIMEZONE
TZID:Europe/Amsterdam
BEGIN:DAYLIGHT
TZOFFSETFROM:+0100
TZOFFSETTO:+0200
TZNAME:CEST
DTSTART:20200329T010000
END:DAYLIGHT
BEGIN:STANDARD
TZOFFSETFROM:+0200
TZOFFSETTO:+0100
TZNAME:CET
DTSTART:20201025T010000
END:STANDARD
BEGIN:DAYLIGHT
TZOFFSETFROM:+0100
TZOFFSETTO:+0200
TZNAME:CEST
DTSTART:20210328T010000
END:DAYLIGHT
BEGIN:STANDARD
TZOFFSETFROM:+0200
TZOFFSETTO:+0100
TZNAME:CET
DTSTART:20211031T010000
END:STANDARD
BEGIN:DAYLIGHT
TZOFFSETFROM:+0100
TZOFFSETTO:+0200
TZNAME:CEST
DTSTART:20220327T010000
END:DAYLIGHT
BEGIN:STANDARD
TZOFFSETFROM:+0200
TZOFFSETTO:+0100
TZNAME:CET
DTSTART:20221030T010000
END:STANDARD
END:VTIMEZONE
BEGIN:VEVENT
DTSTART;TZID=Europe/Amsterdam:20210905T103000
DTEND;TZID=Europe/Amsterdam:20210905T123000
DTSTAMP:20260421T142808
CREATED:20201027T135459Z
LAST-MODIFIED:20210815T074309Z
UID:5122-1630837800-1630845000@www.oudekerkscheveningen.nl
SUMMARY:Ds. A. Christ (Katwijk aan Zee)
DESCRIPTION:
URL:https://www.oudekerkscheveningen.nl/event/ds-a-christ-katwijk-aan-zee-vb-h-a/
LOCATION:Oude Kerk Scheveningen\, Keizerstraat 8\, Scheveningen\, 2584 BJ
CATEGORIES:Kerkdienst
ATTACH;FMTTYPE=image/jpeg:https://www.oudekerkscheveningen.nl/wp-content/uploads/2020/10/OK-binnen.jpg
END:VEVENT
BEGIN:VEVENT
DTSTART;TZID=Europe/Amsterdam:20210912T103000
DTEND;TZID=Europe/Amsterdam:20210912T123000
DTSTAMP:20260421T142808
CREATED:20201027T135609Z
LAST-MODIFIED:20210815T110213Z
UID:5124-1631442600-1631449800@www.oudekerkscheveningen.nl
SUMMARY:Ds. B.H. Weegink
DESCRIPTION:
URL:https://www.oudekerkscheveningen.nl/event/ds-b-h-weegink-h-a-4/
LOCATION:Oude Kerk Scheveningen\, Keizerstraat 8\, Scheveningen\, 2584 BJ
CATEGORIES:Kerkdienst
ATTACH;FMTTYPE=image/jpeg:https://www.oudekerkscheveningen.nl/wp-content/uploads/2020/10/Preekstoel-en-katheder-1-1.jpg
END:VEVENT
BEGIN:VEVENT
DTSTART;TZID=Europe/Amsterdam:20210919T103000
DTEND;TZID=Europe/Amsterdam:20210919T123000
DTSTAMP:20260421T142808
CREATED:20201027T135733Z
LAST-MODIFIED:20210906T205240Z
UID:5126-1632047400-1632054600@www.oudekerkscheveningen.nl
SUMMARY:Prop. H. Meijer (Rotterdam)
DESCRIPTION:
URL:https://www.oudekerkscheveningen.nl/event/ds-a-van-vuuren-capelle-a-d-ijssel/
LOCATION:Oude Kerk Scheveningen\, Keizerstraat 8\, Scheveningen\, 2584 BJ
CATEGORIES:Kerkdienst
ATTACH;FMTTYPE=image/jpeg:https://www.oudekerkscheveningen.nl/wp-content/uploads/2020/10/IMG_4157-1.jpg
END:VEVENT
BEGIN:VEVENT
DTSTART;TZID=Europe/Amsterdam:20210926T103000
DTEND;TZID=Europe/Amsterdam:20210926T123000
DTSTAMP:20260421T142808
CREATED:20201027T135838Z
LAST-MODIFIED:20210905T175153Z
UID:5128-1632652200-1632659400@www.oudekerkscheveningen.nl
SUMMARY:Ds. B.H. Weegink H.A.
DESCRIPTION:
URL:https://www.oudekerkscheveningen.nl/event/ds-b-h-weegink-20/
LOCATION:Oude Kerk Scheveningen\, Keizerstraat 8\, Scheveningen\, 2584 BJ
CATEGORIES:Kerkdienst
ATTACH;FMTTYPE=image/jpeg:https://www.oudekerkscheveningen.nl/wp-content/uploads/2020/10/Avondmaalstel-zilver-1-1.jpg
END:VEVENT
END:VCALENDAR