BEGIN:VCALENDAR
VERSION:2.0
PRODID:-//Oude Kerk Scheveningen - ECPv6.15.17.1//NONSGML v1.0//EN
CALSCALE:GREGORIAN
METHOD:PUBLISH
X-WR-CALNAME:Oude Kerk Scheveningen
X-ORIGINAL-URL:https://www.oudekerkscheveningen.nl
X-WR-CALDESC:Evenementen voor Oude Kerk Scheveningen
REFRESH-INTERVAL;VALUE=DURATION:PT1H
X-Robots-Tag:noindex
X-PUBLISHED-TTL:PT1H
BEGIN:VTIMEZONE
TZID:UTC
BEGIN:STANDARD
TZOFFSETFROM:+0000
TZOFFSETTO:+0000
TZNAME:UTC
DTSTART:20190101T000000
END:STANDARD
END:VTIMEZONE
BEGIN:VEVENT
DTSTART;TZID=UTC:20201018T103000
DTEND;TZID=UTC:20201018T103000
DTSTAMP:20260423T203636
CREATED:20200302T091748Z
LAST-MODIFIED:20201124T204212Z
UID:1845-1603017000-1603017000@www.oudekerkscheveningen.nl
SUMMARY:Ds. J. Maasland (Den Haag)
DESCRIPTION:
URL:https://www.oudekerkscheveningen.nl/event/ds-j-maasland/
LOCATION:Oude Kerk Scheveningen\, Keizerstraat 8\, Scheveningen\, 2584 BJ
CATEGORIES:Kerkdienst
END:VEVENT
END:VCALENDAR