BEGIN:VCALENDAR
VERSION:2.0
PRODID:-//Oude Kerk Scheveningen - ECPv6.15.17.1//NONSGML v1.0//EN
CALSCALE:GREGORIAN
METHOD:PUBLISH
X-WR-CALNAME:Oude Kerk Scheveningen
X-ORIGINAL-URL:https://www.oudekerkscheveningen.nl
X-WR-CALDESC:Evenementen voor Oude Kerk Scheveningen
REFRESH-INTERVAL;VALUE=DURATION:PT1H
X-Robots-Tag:noindex
X-PUBLISHED-TTL:PT1H
BEGIN:VTIMEZONE
TZID:UTC
BEGIN:STANDARD
TZOFFSETFROM:+0000
TZOFFSETTO:+0000
TZNAME:UTC
DTSTART:20190101T000000
END:STANDARD
END:VTIMEZONE
BEGIN:VTIMEZONE
TZID:Europe/Amsterdam
BEGIN:DAYLIGHT
TZOFFSETFROM:+0100
TZOFFSETTO:+0200
TZNAME:CEST
DTSTART:20190331T010000
END:DAYLIGHT
BEGIN:STANDARD
TZOFFSETFROM:+0200
TZOFFSETTO:+0100
TZNAME:CET
DTSTART:20191027T010000
END:STANDARD
BEGIN:DAYLIGHT
TZOFFSETFROM:+0100
TZOFFSETTO:+0200
TZNAME:CEST
DTSTART:20200329T010000
END:DAYLIGHT
BEGIN:STANDARD
TZOFFSETFROM:+0200
TZOFFSETTO:+0100
TZNAME:CET
DTSTART:20201025T010000
END:STANDARD
BEGIN:DAYLIGHT
TZOFFSETFROM:+0100
TZOFFSETTO:+0200
TZNAME:CEST
DTSTART:20210328T010000
END:DAYLIGHT
BEGIN:STANDARD
TZOFFSETFROM:+0200
TZOFFSETTO:+0100
TZNAME:CET
DTSTART:20211031T010000
END:STANDARD
END:VTIMEZONE
BEGIN:VEVENT
DTSTART;TZID=UTC:20200315T103000
DTEND;TZID=UTC:20200315T120000
DTSTAMP:20260424T104937
CREATED:20200301T193056Z
LAST-MODIFIED:20201124T204057Z
UID:1648-1584268200-1584273600@www.oudekerkscheveningen.nl
SUMMARY:Ds. B.H. Weegink
DESCRIPTION:
URL:https://www.oudekerkscheveningen.nl/event/ds-b-h-weegink-2/
LOCATION:Oude Kerk Scheveningen\, Keizerstraat 8\, Scheveningen\, 2584 BJ
CATEGORIES:Kerkdienst
END:VEVENT
BEGIN:VEVENT
DTSTART;TZID=UTC:20200322T103000
DTEND;TZID=UTC:20200322T120000
DTSTAMP:20260424T104937
CREATED:20200301T193328Z
LAST-MODIFIED:20201124T204057Z
UID:1650-1584873000-1584878400@www.oudekerkscheveningen.nl
SUMMARY:Ds. B.H. Weegink i.v.m. Corona aangepaste dienst
DESCRIPTION:
URL:https://www.oudekerkscheveningen.nl/event/ds-b-h-weegink-3/
LOCATION:Oude Kerk Scheveningen\, Keizerstraat 8\, Scheveningen\, 2584 BJ
CATEGORIES:Kerkdienst
END:VEVENT
BEGIN:VEVENT
DTSTART;TZID=UTC:20200329T103000
DTEND;TZID=UTC:20200329T120000
DTSTAMP:20260424T104937
CREATED:20200301T161842Z
LAST-MODIFIED:20201124T204057Z
UID:1652-1585477800-1585483200@www.oudekerkscheveningen.nl
SUMMARY:Ds. B.H. Weegink. i.v.m. Corona aangepaste dienst
DESCRIPTION:
URL:https://www.oudekerkscheveningen.nl/event/ds-a-w-vd-plas-waddinxveen/
LOCATION:Oude Kerk Scheveningen\, Keizerstraat 8\, Scheveningen\, 2584 BJ
CATEGORIES:Kerkdienst
END:VEVENT
BEGIN:VEVENT
DTSTART;TZID=UTC:20200405T103000
DTEND;TZID=UTC:20200405T120000
DTSTAMP:20260424T104937
CREATED:20200301T193521Z
LAST-MODIFIED:20201124T204057Z
UID:1654-1586082600-1586088000@www.oudekerkscheveningen.nl
SUMMARY:Ds. B.H. Weegink i.v.m. Corona aangepaste dienst
DESCRIPTION:
URL:https://www.oudekerkscheveningen.nl/event/ds-b-h-weegink-4/
LOCATION:Oude Kerk Scheveningen\, Keizerstraat 8\, Scheveningen\, 2584 BJ
CATEGORIES:Kerkdienst
END:VEVENT
BEGIN:VEVENT
DTSTART;VALUE=DATE:20200410
DTEND;VALUE=DATE:20200411
DTSTAMP:20260424T104937
CREATED:20200408T184025Z
LAST-MODIFIED:20201124T205446Z
UID:3218-1586476800-1586563199@www.oudekerkscheveningen.nl
SUMMARY:Goede vrijdag
DESCRIPTION:
URL:https://www.oudekerkscheveningen.nl/event/goede-vrijdag/
LOCATION:Oude Kerk Scheveningen\, Keizerstraat 8\, Scheveningen\, 2584 BJ
CATEGORIES:Kerkdienst
END:VEVENT
BEGIN:VEVENT
DTSTART;TZID=UTC:20200410T193000
DTEND;TZID=UTC:20200410T210000
DTSTAMP:20260424T104937
CREATED:20200301T193606Z
LAST-MODIFIED:20201124T204057Z
UID:1656-1586547000-1586552400@www.oudekerkscheveningen.nl
SUMMARY:Ds. B.H. Weegink. i.v.m. coronavirus aangepaste dienst
DESCRIPTION:
URL:https://www.oudekerkscheveningen.nl/event/ds-b-h-weegink-h-a-goede-vrijdag/
LOCATION:Oude Kerk Scheveningen\, Keizerstraat 8\, Scheveningen\, 2584 BJ
CATEGORIES:Kerkdienst
END:VEVENT
BEGIN:VEVENT
DTSTART;VALUE=DATE:20200412
DTEND;VALUE=DATE:20200413
DTSTAMP:20260424T104937
CREATED:20200408T182751Z
LAST-MODIFIED:20201124T205447Z
UID:3206-1586649600-1586735999@www.oudekerkscheveningen.nl
SUMMARY:1e Paasdag
DESCRIPTION:
URL:https://www.oudekerkscheveningen.nl/event/1e-paasdag/
LOCATION:Oude Kerk Scheveningen\, Keizerstraat 8\, Scheveningen\, 2584 BJ
CATEGORIES:Kerkdienst
END:VEVENT
BEGIN:VEVENT
DTSTART;TZID=UTC:20200412T103000
DTEND;TZID=UTC:20200412T120000
DTSTAMP:20260424T104937
CREATED:20200301T194008Z
LAST-MODIFIED:20201124T204057Z
UID:1658-1586687400-1586692800@www.oudekerkscheveningen.nl
SUMMARY:Ds. B.H. Weegink  i.v.m. coronavirus aangepaste dienst
DESCRIPTION:
URL:https://www.oudekerkscheveningen.nl/event/ds-b-h-weegink-1e-paasdag/
LOCATION:Oude Kerk Scheveningen\, Keizerstraat 8\, Scheveningen\, 2584 BJ
CATEGORIES:Kerkdienst
END:VEVENT
BEGIN:VEVENT
DTSTART;VALUE=DATE:20200413
DTEND;VALUE=DATE:20200414
DTSTAMP:20260424T104937
CREATED:20200408T182422Z
LAST-MODIFIED:20201124T205447Z
UID:3204-1586736000-1586822399@www.oudekerkscheveningen.nl
SUMMARY:2e Paasdag
DESCRIPTION:
URL:https://www.oudekerkscheveningen.nl/event/2e-paasdag/
LOCATION:Oude Kerk Scheveningen\, Keizerstraat 8\, Scheveningen\, 2584 BJ
CATEGORIES:Kerkdienst
END:VEVENT
BEGIN:VEVENT
DTSTART;TZID=UTC:20200419T103000
DTEND;TZID=UTC:20200419T120000
DTSTAMP:20260424T104937
CREATED:20200301T193837Z
LAST-MODIFIED:20201124T204210Z
UID:1663-1587292200-1587297600@www.oudekerkscheveningen.nl
SUMMARY:Ds. J. Quist  i.v.m. coronavirus aangepaste dienst
DESCRIPTION:
URL:https://www.oudekerkscheveningen.nl/event/ds-h-g-de-graaff-nieuwerbrug/
LOCATION:Oude Kerk Scheveningen\, Keizerstraat 8\, Scheveningen\, 2584 BJ
CATEGORIES:Kerkdienst
END:VEVENT
BEGIN:VEVENT
DTSTART;TZID=UTC:20200420T000000
DTEND;TZID=UTC:20200420T202200
DTSTAMP:20260424T104937
CREATED:20200302T070128Z
LAST-MODIFIED:20201124T205447Z
UID:1777-1587340800-1587414120@www.oudekerkscheveningen.nl
SUMMARY:10.00 uur Let op dienst PJK Ds. DJ Thijs.
DESCRIPTION:
URL:https://www.oudekerkscheveningen.nl/event/ds-b-h-weegink-hemelvaartsdag/
LOCATION:Oude Kerk Scheveningen\, Keizerstraat 8\, Scheveningen\, 2584 BJ
CATEGORIES:Kerkdienst
END:VEVENT
BEGIN:VEVENT
DTSTART;TZID=UTC:20200426T100000
DTEND;TZID=UTC:20200426T113000
DTSTAMP:20260424T104937
CREATED:20200301T190313Z
LAST-MODIFIED:20201124T205447Z
UID:1665-1587895200-1587900600@www.oudekerkscheveningen.nl
SUMMARY:10.00 uur Ds. G. Lock (Scheveningen)  let op aangepaste dienst Bethelkerk
DESCRIPTION:
URL:https://www.oudekerkscheveningen.nl/event/ds-e-van-rooijen-noordeloos/
LOCATION:Oude Kerk Scheveningen\, Keizerstraat 8\, Scheveningen\, 2584 BJ
CATEGORIES:Kerkdienst
END:VEVENT
BEGIN:VEVENT
DTSTART;TZID=UTC:20200503T100000
DTEND;TZID=UTC:20200503T120000
DTSTAMP:20260424T104937
CREATED:20200302T065636Z
LAST-MODIFIED:20201124T204057Z
UID:1771-1588500000-1588507200@www.oudekerkscheveningen.nl
SUMMARY:10.00 uur Ds. B.H. Weegink. let op aangepaste dienst
DESCRIPTION:
URL:https://www.oudekerkscheveningen.nl/event/ds-b-h-weegink-5/
LOCATION:Oude Kerk Scheveningen\, Keizerstraat 8\, Scheveningen\, 2584 BJ
CATEGORIES:Kerkdienst
END:VEVENT
BEGIN:VEVENT
DTSTART;VALUE=DATE:20200504
DTEND;VALUE=DATE:20200505
DTSTAMP:20260424T104937
CREATED:20200317T072656Z
LAST-MODIFIED:20201124T205447Z
UID:2656-1588550400-1588636799@www.oudekerkscheveningen.nl
SUMMARY:Dodenherdenking
DESCRIPTION:
URL:https://www.oudekerkscheveningen.nl/event/dodenherdenking/
LOCATION:Oude Kerk Scheveningen\, Keizerstraat 8\, Scheveningen\, 2584 BJ
CATEGORIES:Kerkdienst
END:VEVENT
BEGIN:VEVENT
DTSTART;VALUE=DATE:20200505
DTEND;VALUE=DATE:20200506
DTSTAMP:20260424T104937
CREATED:20200317T072754Z
LAST-MODIFIED:20201124T205447Z
UID:2658-1588636800-1588723199@www.oudekerkscheveningen.nl
SUMMARY:Bevrijdingsdag
DESCRIPTION:
URL:https://www.oudekerkscheveningen.nl/event/bevrijdingsdag/
LOCATION:Oude Kerk Scheveningen\, Keizerstraat 8\, Scheveningen\, 2584 BJ
CATEGORIES:Kerkdienst
END:VEVENT
BEGIN:VEVENT
DTSTART;TZID=UTC:20200507T210000
DTEND;TZID=UTC:20200507T213000
DTSTAMP:20260424T104937
CREATED:20200424T054304Z
LAST-MODIFIED:20201124T204058Z
UID:3308-1588885200-1588887000@www.oudekerkscheveningen.nl
SUMMARY:Dagsluiting Ds. B.H. Weegink
DESCRIPTION:
URL:https://www.oudekerkscheveningen.nl/event/dagsluiting-ds-b-h-weegink/
LOCATION:Oude Kerk Scheveningen\, Keizerstraat 8\, Scheveningen\, 2584 BJ
CATEGORIES:Kerkdienst
END:VEVENT
BEGIN:VEVENT
DTSTART;TZID=UTC:20200510T103000
DTEND;TZID=UTC:20200510T120000
DTSTAMP:20260424T104937
CREATED:20200302T065800Z
LAST-MODIFIED:20201124T204210Z
UID:1773-1589106600-1589112000@www.oudekerkscheveningen.nl
SUMMARY:Ds. C. van Andel. (Amsterdam)
DESCRIPTION:
URL:https://www.oudekerkscheveningen.nl/event/ds-c-van-andel-amsterdam/
LOCATION:Oude Kerk Scheveningen\, Keizerstraat 8\, Scheveningen\, 2584 BJ
CATEGORIES:Kerkdienst
END:VEVENT
BEGIN:VEVENT
DTSTART;TZID=UTC:20200517T103000
DTEND;TZID=UTC:20200517T120000
DTSTAMP:20260424T104937
CREATED:20200302T065919Z
LAST-MODIFIED:20201124T204058Z
UID:1775-1589711400-1589716800@www.oudekerkscheveningen.nl
SUMMARY:Ds. B.H. Weegink
DESCRIPTION:
URL:https://www.oudekerkscheveningen.nl/event/ds-j-henzen-wateringen/
LOCATION:Keizerstraat 8\, Scheveningen\, Zuid-Holland\, 2584 BJ\, Nederland
CATEGORIES:Kerkdienst
END:VEVENT
BEGIN:VEVENT
DTSTART;VALUE=DATE:20200521
DTEND;VALUE=DATE:20200522
DTSTAMP:20260424T104937
CREATED:20200408T183912Z
LAST-MODIFIED:20201124T205448Z
UID:3216-1590019200-1590105599@www.oudekerkscheveningen.nl
SUMMARY:Hemelvaartsdag
DESCRIPTION:
URL:https://www.oudekerkscheveningen.nl/event/hemelvaartsdag/
LOCATION:Oude Kerk Scheveningen\, Keizerstraat 8\, Scheveningen\, 2584 BJ
CATEGORIES:Kerkdienst
END:VEVENT
BEGIN:VEVENT
DTSTART;TZID=UTC:20200521T103000
DTEND;TZID=UTC:20200521T120000
DTSTAMP:20260424T104937
CREATED:20200424T051523Z
LAST-MODIFIED:20201124T204058Z
UID:3302-1590057000-1590062400@www.oudekerkscheveningen.nl
SUMMARY:Ds. B.H. Weegink
DESCRIPTION:
URL:https://www.oudekerkscheveningen.nl/event/10-30-ds-b-h-weegink/
LOCATION:Oude Kerk Scheveningen\, Keizerstraat 8\, Scheveningen\, 2584 BJ
CATEGORIES:Kerkdienst
END:VEVENT
BEGIN:VEVENT
DTSTART;TZID=UTC:20200524T103000
DTEND;TZID=UTC:20200524T120000
DTSTAMP:20260424T104937
CREATED:20200302T070241Z
LAST-MODIFIED:20201124T204210Z
UID:1779-1590316200-1590321600@www.oudekerkscheveningen.nl
SUMMARY:Ds. A. Christ. (Katwijk aan Zee)
DESCRIPTION:
URL:https://www.oudekerkscheveningen.nl/event/ds-a-christ/
LOCATION:Oude Kerk Scheveningen\, Keizerstraat 8\, Scheveningen\, 2584 BJ
CATEGORIES:Kerkdienst
END:VEVENT
BEGIN:VEVENT
DTSTART;VALUE=DATE:20200531
DTEND;VALUE=DATE:20200601
DTSTAMP:20260424T104937
CREATED:20200408T183036Z
LAST-MODIFIED:20201124T205448Z
UID:3208-1590883200-1590969599@www.oudekerkscheveningen.nl
SUMMARY:1e Pinksterdag
DESCRIPTION:
URL:https://www.oudekerkscheveningen.nl/event/1e-pinksterdag/
LOCATION:Oude Kerk Scheveningen\, Keizerstraat 8\, Scheveningen\, 2584 BJ
CATEGORIES:Kerkdienst
END:VEVENT
BEGIN:VEVENT
DTSTART;TZID=UTC:20200531T103000
DTEND;TZID=UTC:20200531T120000
DTSTAMP:20260424T104937
CREATED:20200302T070348Z
LAST-MODIFIED:20201124T204058Z
UID:1781-1590921000-1590926400@www.oudekerkscheveningen.nl
SUMMARY:Ds. B.H. Weegink.
DESCRIPTION:
URL:https://www.oudekerkscheveningen.nl/event/ds-b-h-weegink-1e-pinksterdag/
LOCATION:Oude Kerk Scheveningen\, Keizerstraat 8\, Scheveningen\, 2584 BJ
CATEGORIES:Kerkdienst
END:VEVENT
BEGIN:VEVENT
DTSTART;VALUE=DATE:20200601
DTEND;VALUE=DATE:20200602
DTSTAMP:20260424T104937
CREATED:20200408T183128Z
LAST-MODIFIED:20201124T205448Z
UID:3210-1590969600-1591055999@www.oudekerkscheveningen.nl
SUMMARY:2e Pinksterdag
DESCRIPTION:
URL:https://www.oudekerkscheveningen.nl/event/2e-pinksterdag/
LOCATION:Oude Kerk Scheveningen\, Keizerstraat 8\, Scheveningen\, 2584 BJ
CATEGORIES:Kerkdienst
END:VEVENT
BEGIN:VEVENT
DTSTART;TZID=UTC:20200607T080000
DTEND;TZID=UTC:20200607T170000
DTSTAMP:20260424T104937
CREATED:20200302T070710Z
LAST-MODIFIED:20240316T210151Z
UID:1785-1591516800-1591549200@www.oudekerkscheveningen.nl
SUMMARY:Ds. A. van Vuuren. (Capelle a.d. IJssel) v.b. H.A.
DESCRIPTION:
URL:https://www.oudekerkscheveningen.nl/event/ds-a-van-vuuren-2/
LOCATION:Oude Kerk Scheveningen\, Keizerstraat 8\, Scheveningen\, 2584 BJ
CATEGORIES:Kerkdienst
END:VEVENT
BEGIN:VEVENT
DTSTART;TZID=UTC:20200614T103000
DTEND;TZID=UTC:20200614T120000
DTSTAMP:20260424T104937
CREATED:20200302T070830Z
LAST-MODIFIED:20240316T210212Z
UID:1788-1592130600-1592136000@www.oudekerkscheveningen.nl
SUMMARY:Ds. B.H. Weegink. H.A.
DESCRIPTION:
URL:https://www.oudekerkscheveningen.nl/event/ds-b-h-weegink-h-a/
LOCATION:Oude Kerk Scheveningen\, Keizerstraat 8\, Scheveningen\, 2584 BJ
CATEGORIES:Kerkdienst
END:VEVENT
BEGIN:VEVENT
DTSTART;TZID=Europe/Amsterdam:20200618T080000
DTEND;TZID=Europe/Amsterdam:20200618T170000
DTSTAMP:20260424T104937
CREATED:20200618T132402Z
LAST-MODIFIED:20201124T204211Z
UID:3943-1592467200-1592499600@www.oudekerkscheveningen.nl
SUMMARY:Ds. Evenblij Dordrecht 10.30-12.00
DESCRIPTION:
URL:https://www.oudekerkscheveningen.nl/event/ds-evenblij-dordrecht-10-30-12-00/
LOCATION:Oude Kerk Scheveningen\, Keizerstraat 8\, Scheveningen\, 2584 BJ
CATEGORIES:Kerkdienst
END:VEVENT
BEGIN:VEVENT
DTSTART;TZID=UTC:20200621T103000
DTEND;TZID=UTC:20200621T120000
DTSTAMP:20260424T104937
CREATED:20200302T071025Z
LAST-MODIFIED:20201124T204211Z
UID:1790-1592735400-1592740800@www.oudekerkscheveningen.nl
SUMMARY:Ds. E. van Rooijen  (Noordeloos)
DESCRIPTION:
URL:https://www.oudekerkscheveningen.nl/event/ds-e-van-rooijen-noordeloos-2/
CATEGORIES:Kerkdienst
END:VEVENT
BEGIN:VEVENT
DTSTART;TZID=UTC:20200628T103000
DTEND;TZID=UTC:20200628T120000
DTSTAMP:20260424T104937
CREATED:20200302T071319Z
LAST-MODIFIED:20201124T204058Z
UID:1794-1593340200-1593345600@www.oudekerkscheveningen.nl
SUMMARY:Ds. B.H. Weegink.
DESCRIPTION:
URL:https://www.oudekerkscheveningen.nl/event/ds-b-h-weegink-6/
LOCATION:Oude Kerk Scheveningen\, Keizerstraat 8\, Scheveningen\, 2584 BJ
CATEGORIES:Kerkdienst
END:VEVENT
BEGIN:VEVENT
DTSTART;TZID=UTC:20200705T103000
DTEND;TZID=UTC:20200705T103000
DTSTAMP:20260424T104937
CREATED:20200302T071422Z
LAST-MODIFIED:20201124T204058Z
UID:1796-1593945000-1593945000@www.oudekerkscheveningen.nl
SUMMARY:Ds. B.H. Weegink.
DESCRIPTION:
URL:https://www.oudekerkscheveningen.nl/event/ds-b-h-weegink-7/
LOCATION:Oude Kerk Scheveningen\, Keizerstraat 8\, Scheveningen\, 2584 BJ
CATEGORIES:Kerkdienst
END:VEVENT
END:VCALENDAR