BEGIN:VCALENDAR
VERSION:2.0
PRODID:-//Oude Kerk Scheveningen - ECPv6.15.17.1//NONSGML v1.0//EN
CALSCALE:GREGORIAN
METHOD:PUBLISH
X-WR-CALNAME:Oude Kerk Scheveningen
X-ORIGINAL-URL:https://www.oudekerkscheveningen.nl
X-WR-CALDESC:Evenementen voor Oude Kerk Scheveningen
REFRESH-INTERVAL;VALUE=DURATION:PT1H
X-Robots-Tag:noindex
X-PUBLISHED-TTL:PT1H
BEGIN:VTIMEZONE
TZID:Europe/Amsterdam
BEGIN:DAYLIGHT
TZOFFSETFROM:+0100
TZOFFSETTO:+0200
TZNAME:CEST
DTSTART:20200329T010000
END:DAYLIGHT
BEGIN:STANDARD
TZOFFSETFROM:+0200
TZOFFSETTO:+0100
TZNAME:CET
DTSTART:20201025T010000
END:STANDARD
BEGIN:DAYLIGHT
TZOFFSETFROM:+0100
TZOFFSETTO:+0200
TZNAME:CEST
DTSTART:20210328T010000
END:DAYLIGHT
BEGIN:STANDARD
TZOFFSETFROM:+0200
TZOFFSETTO:+0100
TZNAME:CET
DTSTART:20211031T010000
END:STANDARD
BEGIN:DAYLIGHT
TZOFFSETFROM:+0100
TZOFFSETTO:+0200
TZNAME:CEST
DTSTART:20220327T010000
END:DAYLIGHT
BEGIN:STANDARD
TZOFFSETFROM:+0200
TZOFFSETTO:+0100
TZNAME:CET
DTSTART:20221030T010000
END:STANDARD
BEGIN:DAYLIGHT
TZOFFSETFROM:+0100
TZOFFSETTO:+0200
TZNAME:CEST
DTSTART:20230326T010000
END:DAYLIGHT
BEGIN:STANDARD
TZOFFSETFROM:+0200
TZOFFSETTO:+0100
TZNAME:CET
DTSTART:20231029T010000
END:STANDARD
END:VTIMEZONE
BEGIN:VEVENT
DTSTART;TZID=Europe/Amsterdam:20210718T103000
DTEND;TZID=Europe/Amsterdam:20210718T123000
DTSTAMP:20260421T231516
CREATED:20201027T134453Z
LAST-MODIFIED:20210627T124500Z
UID:5108-1626604200-1626611400@www.oudekerkscheveningen.nl
SUMMARY:Ds. B.H. Weegink
DESCRIPTION:
URL:https://www.oudekerkscheveningen.nl/event/ds-b-h-weegink-17/
LOCATION:Oude Kerk Scheveningen\, Keizerstraat 8\, Scheveningen\, 2584 BJ
CATEGORIES:Kerkdienst
ATTACH;FMTTYPE=image/jpeg:https://www.oudekerkscheveningen.nl/wp-content/uploads/2020/10/Preekstoel-en-katheder-1.jpg
END:VEVENT
BEGIN:VEVENT
DTSTART;TZID=Europe/Amsterdam:20210725T080000
DTEND;TZID=Europe/Amsterdam:20210725T113000
DTSTAMP:20260421T231516
CREATED:20201027T134607Z
LAST-MODIFIED:20210725T060908Z
UID:5110-1627200000-1627212600@www.oudekerkscheveningen.nl
SUMMARY:Ds. D.J. Thijs
DESCRIPTION:
URL:https://www.oudekerkscheveningen.nl/event/ds-d-j-thijs/
LOCATION:Oude Kerk Scheveningen\, Keizerstraat 8\, Scheveningen\, 2584 BJ
CATEGORIES:Kerkdienst
ATTACH;FMTTYPE=image/jpeg:https://www.oudekerkscheveningen.nl/wp-content/uploads/2020/10/IMG_4157.jpg
END:VEVENT
BEGIN:VEVENT
DTSTART;TZID=Europe/Amsterdam:20210801T103000
DTEND;TZID=Europe/Amsterdam:20210801T113000
DTSTAMP:20260421T231516
CREATED:20201027T134803Z
LAST-MODIFIED:20210801T101306Z
UID:5112-1627813800-1627817400@www.oudekerkscheveningen.nl
SUMMARY:Ds. J. Maasland
DESCRIPTION:
URL:https://www.oudekerkscheveningen.nl/event/ds-j-maasland-den-haag/
LOCATION:Oude Kerk Scheveningen\, Keizerstraat 8\, Scheveningen\, 2584 BJ
CATEGORIES:Kerkdienst
ATTACH;FMTTYPE=image/jpeg:https://www.oudekerkscheveningen.nl/wp-content/uploads/2020/10/OK-schip-2.jpg
END:VEVENT
BEGIN:VEVENT
DTSTART;TZID=Europe/Amsterdam:20210808T103000
DTEND;TZID=Europe/Amsterdam:20210808T123000
DTSTAMP:20260421T231516
CREATED:20201027T134915Z
LAST-MODIFIED:20210711T173007Z
UID:5114-1628418600-1628425800@www.oudekerkscheveningen.nl
SUMMARY:Ds. E. van Rooijen (Noordeloos)
DESCRIPTION:
URL:https://www.oudekerkscheveningen.nl/event/ds-e-van-rooijen-noordeloos-3/
LOCATION:Oude Kerk Scheveningen\, Keizerstraat 8\, Scheveningen\, 2584 BJ
CATEGORIES:Kerkdienst
ATTACH;FMTTYPE=image/jpeg:https://www.oudekerkscheveningen.nl/wp-content/uploads/2020/10/OK-binnen.jpg
END:VEVENT
BEGIN:VEVENT
DTSTART;TZID=Europe/Amsterdam:20210815T103000
DTEND;TZID=Europe/Amsterdam:20210815T123000
DTSTAMP:20260421T231516
CREATED:20201027T135035Z
LAST-MODIFIED:20210718T113828Z
UID:5116-1629023400-1629030600@www.oudekerkscheveningen.nl
SUMMARY:Ds. B.H. Weegink
DESCRIPTION:
URL:https://www.oudekerkscheveningen.nl/event/ds-b-h-weegink-18/
LOCATION:Oude Kerk Scheveningen\, Keizerstraat 8\, Scheveningen\, 2584 BJ
CATEGORIES:Kerkdienst
ATTACH;FMTTYPE=image/jpeg:https://www.oudekerkscheveningen.nl/wp-content/uploads/2020/10/Preekstoel-en-katheder-1.jpg
END:VEVENT
BEGIN:VEVENT
DTSTART;TZID=Europe/Amsterdam:20210822T103000
DTEND;TZID=Europe/Amsterdam:20210822T123000
DTSTAMP:20260421T231516
CREATED:20201027T135149Z
LAST-MODIFIED:20210725T101759Z
UID:5118-1629628200-1629635400@www.oudekerkscheveningen.nl
SUMMARY:Ds. J. Quist (Den Haag)
DESCRIPTION:
URL:https://www.oudekerkscheveningen.nl/event/ds-j-quist-den-haag/
LOCATION:Oude Kerk Scheveningen\, Keizerstraat 8\, Scheveningen\, 2584 BJ
CATEGORIES:Kerkdienst
ATTACH;FMTTYPE=image/jpeg:https://www.oudekerkscheveningen.nl/wp-content/uploads/2020/10/IMG_4157-1.jpg
END:VEVENT
BEGIN:VEVENT
DTSTART;TZID=Europe/Amsterdam:20210829T103000
DTEND;TZID=Europe/Amsterdam:20210829T123000
DTSTAMP:20260421T231516
CREATED:20201027T135301Z
LAST-MODIFIED:20210801T101440Z
UID:5120-1630233000-1630240200@www.oudekerkscheveningen.nl
SUMMARY:Ds. B.H. Weegink
DESCRIPTION:
URL:https://www.oudekerkscheveningen.nl/event/ds-b-h-weegink-19/
LOCATION:Oude Kerk Scheveningen\, Keizerstraat 8\, Scheveningen\, 2584 BJ
CATEGORIES:Kerkdienst
ATTACH;FMTTYPE=image/jpeg:https://www.oudekerkscheveningen.nl/wp-content/uploads/2020/10/OK-schip-2.jpg
END:VEVENT
BEGIN:VEVENT
DTSTART;TZID=Europe/Amsterdam:20210905T103000
DTEND;TZID=Europe/Amsterdam:20210905T123000
DTSTAMP:20260421T231516
CREATED:20201027T135459Z
LAST-MODIFIED:20210815T074309Z
UID:5122-1630837800-1630845000@www.oudekerkscheveningen.nl
SUMMARY:Ds. A. Christ (Katwijk aan Zee)
DESCRIPTION:
URL:https://www.oudekerkscheveningen.nl/event/ds-a-christ-katwijk-aan-zee-vb-h-a/
LOCATION:Oude Kerk Scheveningen\, Keizerstraat 8\, Scheveningen\, 2584 BJ
CATEGORIES:Kerkdienst
ATTACH;FMTTYPE=image/jpeg:https://www.oudekerkscheveningen.nl/wp-content/uploads/2020/10/OK-binnen.jpg
END:VEVENT
BEGIN:VEVENT
DTSTART;TZID=Europe/Amsterdam:20210912T103000
DTEND;TZID=Europe/Amsterdam:20210912T123000
DTSTAMP:20260421T231516
CREATED:20201027T135609Z
LAST-MODIFIED:20210815T110213Z
UID:5124-1631442600-1631449800@www.oudekerkscheveningen.nl
SUMMARY:Ds. B.H. Weegink
DESCRIPTION:
URL:https://www.oudekerkscheveningen.nl/event/ds-b-h-weegink-h-a-4/
LOCATION:Oude Kerk Scheveningen\, Keizerstraat 8\, Scheveningen\, 2584 BJ
CATEGORIES:Kerkdienst
ATTACH;FMTTYPE=image/jpeg:https://www.oudekerkscheveningen.nl/wp-content/uploads/2020/10/Preekstoel-en-katheder-1-1.jpg
END:VEVENT
BEGIN:VEVENT
DTSTART;TZID=Europe/Amsterdam:20210919T103000
DTEND;TZID=Europe/Amsterdam:20210919T123000
DTSTAMP:20260421T231516
CREATED:20201027T135733Z
LAST-MODIFIED:20210906T205240Z
UID:5126-1632047400-1632054600@www.oudekerkscheveningen.nl
SUMMARY:Prop. H. Meijer (Rotterdam)
DESCRIPTION:
URL:https://www.oudekerkscheveningen.nl/event/ds-a-van-vuuren-capelle-a-d-ijssel/
LOCATION:Oude Kerk Scheveningen\, Keizerstraat 8\, Scheveningen\, 2584 BJ
CATEGORIES:Kerkdienst
ATTACH;FMTTYPE=image/jpeg:https://www.oudekerkscheveningen.nl/wp-content/uploads/2020/10/IMG_4157-1.jpg
END:VEVENT
BEGIN:VEVENT
DTSTART;TZID=Europe/Amsterdam:20210926T103000
DTEND;TZID=Europe/Amsterdam:20210926T123000
DTSTAMP:20260421T231516
CREATED:20201027T135838Z
LAST-MODIFIED:20210905T175153Z
UID:5128-1632652200-1632659400@www.oudekerkscheveningen.nl
SUMMARY:Ds. B.H. Weegink H.A.
DESCRIPTION:
URL:https://www.oudekerkscheveningen.nl/event/ds-b-h-weegink-20/
LOCATION:Oude Kerk Scheveningen\, Keizerstraat 8\, Scheveningen\, 2584 BJ
CATEGORIES:Kerkdienst
ATTACH;FMTTYPE=image/jpeg:https://www.oudekerkscheveningen.nl/wp-content/uploads/2020/10/Avondmaalstel-zilver-1-1.jpg
END:VEVENT
BEGIN:VEVENT
DTSTART;TZID=Europe/Amsterdam:20211003T103000
DTEND;TZID=Europe/Amsterdam:20211003T123000
DTSTAMP:20260421T231516
CREATED:20201027T140121Z
LAST-MODIFIED:20210905T132522Z
UID:5130-1633257000-1633264200@www.oudekerkscheveningen.nl
SUMMARY:Ds. G.E. van der Hout (Lekkerkerk) Israël zondag
DESCRIPTION:
URL:https://www.oudekerkscheveningen.nl/event/ds-f-wijnhorst-katwijk-aan-zee-israel-zondag/
LOCATION:Oude Kerk Scheveningen\, Keizerstraat 8\, Scheveningen\, 2584 BJ
CATEGORIES:Kerkdienst
ATTACH;FMTTYPE=image/jpeg:https://www.oudekerkscheveningen.nl/wp-content/uploads/2020/10/OK-binnen.jpg
END:VEVENT
BEGIN:VEVENT
DTSTART;TZID=Europe/Amsterdam:20211010T103000
DTEND;TZID=Europe/Amsterdam:20211010T123000
DTSTAMP:20260421T231516
CREATED:20201027T140233Z
LAST-MODIFIED:20210912T131200Z
UID:5132-1633861800-1633869000@www.oudekerkscheveningen.nl
SUMMARY:Ds. B.H. Weegink
DESCRIPTION:
URL:https://www.oudekerkscheveningen.nl/event/ds-b-h-weegink-21/
LOCATION:Oude Kerk Scheveningen\, Keizerstraat 8\, Scheveningen\, 2584 BJ
CATEGORIES:Kerkdienst
ATTACH;FMTTYPE=image/jpeg:https://www.oudekerkscheveningen.nl/wp-content/uploads/2020/10/OK-schip-2.jpg
END:VEVENT
BEGIN:VEVENT
DTSTART;TZID=Europe/Amsterdam:20211017T103000
DTEND;TZID=Europe/Amsterdam:20211017T123000
DTSTAMP:20260421T231516
CREATED:20201027T140353Z
LAST-MODIFIED:20210919T145927Z
UID:5134-1634466600-1634473800@www.oudekerkscheveningen.nl
SUMMARY:Ds. J. Smit (Katwijk aan den Rijn)
DESCRIPTION:
URL:https://www.oudekerkscheveningen.nl/event/ds-j-smit-katwijk-aan-den-rijn-2/
LOCATION:Oude Kerk Scheveningen\, Keizerstraat 8\, Scheveningen\, 2584 BJ
CATEGORIES:Kerkdienst
ATTACH;FMTTYPE=image/jpeg:https://www.oudekerkscheveningen.nl/wp-content/uploads/2020/10/IMG_4157-1.jpg
END:VEVENT
BEGIN:VEVENT
DTSTART;TZID=Europe/Amsterdam:20211024T103000
DTEND;TZID=Europe/Amsterdam:20211024T123000
DTSTAMP:20260421T231516
CREATED:20201027T140507Z
LAST-MODIFIED:20210926T120116Z
UID:5136-1635071400-1635078600@www.oudekerkscheveningen.nl
SUMMARY:Ds. B.H. Weegink
DESCRIPTION:
URL:https://www.oudekerkscheveningen.nl/event/ds-b-h-weegink-22/
LOCATION:Oude Kerk Scheveningen\, Keizerstraat 8\, Scheveningen\, 2584 BJ
CATEGORIES:Kerkdienst
ATTACH;FMTTYPE=image/jpeg:https://www.oudekerkscheveningen.nl/wp-content/uploads/2020/10/Preekstoel-en-katheder-1-1.jpg
END:VEVENT
BEGIN:VEVENT
DTSTART;TZID=Europe/Amsterdam:20211031T103000
DTEND;TZID=Europe/Amsterdam:20211031T123000
DTSTAMP:20260421T231516
CREATED:20201027T140610Z
LAST-MODIFIED:20211003T131910Z
UID:5138-1635676200-1635683400@www.oudekerkscheveningen.nl
SUMMARY:Ds. Th. Wegman (Zeist)
DESCRIPTION:
URL:https://www.oudekerkscheveningen.nl/event/ds/
LOCATION:Oude Kerk Scheveningen\, Keizerstraat 8\, Scheveningen\, 2584 BJ
CATEGORIES:Kerkdienst
ATTACH;FMTTYPE=image/jpeg:https://www.oudekerkscheveningen.nl/wp-content/uploads/2020/10/OK-binnen.jpg
END:VEVENT
BEGIN:VEVENT
DTSTART;TZID=Europe/Amsterdam:20211107T103000
DTEND;TZID=Europe/Amsterdam:20211107T123000
DTSTAMP:20260421T231516
CREATED:20201027T141012Z
LAST-MODIFIED:20211010T200105Z
UID:5141-1636281000-1636288200@www.oudekerkscheveningen.nl
SUMMARY:Ds. B.H. Weegink Dankstond
DESCRIPTION:
URL:https://www.oudekerkscheveningen.nl/event/ds-b-h-weegink-dankstond/
LOCATION:Oude Kerk Scheveningen\, Keizerstraat 8\, Scheveningen\, 2584 BJ
CATEGORIES:Kerkdienst
ATTACH;FMTTYPE=image/jpeg:https://www.oudekerkscheveningen.nl/wp-content/uploads/2020/10/Statenbijbel-1.jpg
END:VEVENT
BEGIN:VEVENT
DTSTART;TZID=Europe/Amsterdam:20211114T103000
DTEND;TZID=Europe/Amsterdam:20211114T123000
DTSTAMP:20260421T231516
CREATED:20201027T141133Z
LAST-MODIFIED:20211024T160510Z
UID:5143-1636885800-1636893000@www.oudekerkscheveningen.nl
SUMMARY:Ds. H.G. de Graaff  (Nieuwerbrug)
DESCRIPTION:
URL:https://www.oudekerkscheveningen.nl/event/ds-h-g-de-graaff-nieuwerbrug-4/
LOCATION:Oude Kerk Scheveningen\, Keizerstraat 8\, Scheveningen\, 2584 BJ
CATEGORIES:Kerkdienst
ATTACH;FMTTYPE=image/jpeg:https://www.oudekerkscheveningen.nl/wp-content/uploads/2020/10/IMG_4157-2.jpg
END:VEVENT
BEGIN:VEVENT
DTSTART;TZID=Europe/Amsterdam:20211121T103000
DTEND;TZID=Europe/Amsterdam:20211121T123000
DTSTAMP:20260421T231516
CREATED:20201027T141352Z
LAST-MODIFIED:20211024T160322Z
UID:5145-1637490600-1637497800@www.oudekerkscheveningen.nl
SUMMARY:Ds. B.H. Weegink  Gedachteniszondag
DESCRIPTION:
URL:https://www.oudekerkscheveningen.nl/event/ds-b-h-weegink-eind-kerkelijk-jaar/
LOCATION:Oude Kerk Scheveningen\, Keizerstraat 8\, Scheveningen\, 2584 BJ
CATEGORIES:Kerkdienst
ATTACH;FMTTYPE=image/jpeg:https://www.oudekerkscheveningen.nl/wp-content/uploads/2020/10/handen-1.jpg
END:VEVENT
BEGIN:VEVENT
DTSTART;TZID=Europe/Amsterdam:20211128T103000
DTEND;TZID=Europe/Amsterdam:20211128T123000
DTSTAMP:20260421T231516
CREATED:20201027T141513Z
LAST-MODIFIED:20211117T121541Z
UID:5147-1638095400-1638102600@www.oudekerkscheveningen.nl
SUMMARY:Ds. B.H. Weegink (Heilig Avondmaal)
DESCRIPTION:
URL:https://www.oudekerkscheveningen.nl/event/ds-b-h-weegink-1e-advent/
LOCATION:Oude Kerk Scheveningen\, Keizerstraat 8\, Scheveningen\, 2584 BJ
CATEGORIES:Kerkdienst
ATTACH;FMTTYPE=image/jpeg:https://www.oudekerkscheveningen.nl/wp-content/uploads/2020/10/IMG_6418.jpg
END:VEVENT
BEGIN:VEVENT
DTSTART;TZID=Europe/Amsterdam:20211205T103000
DTEND;TZID=Europe/Amsterdam:20211205T123000
DTSTAMP:20260421T231516
CREATED:20201027T141632Z
LAST-MODIFIED:20211117T105919Z
UID:5149-1638700200-1638707400@www.oudekerkscheveningen.nl
SUMMARY:Ds. C. van Andel (Amsterdam)
DESCRIPTION:
URL:https://www.oudekerkscheveningen.nl/event/ds-c-van-andel-amsterdam-2e-advent/
LOCATION:Oude Kerk Scheveningen\, Keizerstraat 8\, Scheveningen\, 2584 BJ
CATEGORIES:Kerkdienst
ATTACH;FMTTYPE=image/jpeg:https://www.oudekerkscheveningen.nl/wp-content/uploads/2020/10/IMG_6423.jpg
END:VEVENT
BEGIN:VEVENT
DTSTART;TZID=Europe/Amsterdam:20211212T103000
DTEND;TZID=Europe/Amsterdam:20211212T123000
DTSTAMP:20260421T231516
CREATED:20201027T141749Z
LAST-MODIFIED:20211117T121118Z
UID:5151-1639305000-1639312200@www.oudekerkscheveningen.nl
SUMMARY:Ds. B.H. Weegink
DESCRIPTION:
URL:https://www.oudekerkscheveningen.nl/event/ds-b-h-weegink-3e-advent-2/
LOCATION:Oude Kerk Scheveningen\, Keizerstraat 8\, Scheveningen\, 2584 BJ
CATEGORIES:Kerkdienst
ATTACH;FMTTYPE=image/jpeg:https://www.oudekerkscheveningen.nl/wp-content/uploads/2020/10/IMG_6433.jpg
END:VEVENT
BEGIN:VEVENT
DTSTART;TZID=Europe/Amsterdam:20211219T103000
DTEND;TZID=Europe/Amsterdam:20211219T123000
DTSTAMP:20260421T231516
CREATED:20201027T141927Z
LAST-MODIFIED:20211121T135807Z
UID:5153-1639909800-1639917000@www.oudekerkscheveningen.nl
SUMMARY:Ds. J. Quist
DESCRIPTION:
URL:https://www.oudekerkscheveningen.nl/event/ds-j-quist-4e-advent/
LOCATION:Oude Kerk Scheveningen\, Keizerstraat 8\, Scheveningen\, 2584 BJ
CATEGORIES:Kerkdienst
ATTACH;FMTTYPE=image/jpeg:https://www.oudekerkscheveningen.nl/wp-content/uploads/2020/10/IMG_6454.jpg
END:VEVENT
BEGIN:VEVENT
DTSTART;TZID=Europe/Amsterdam:20211225T103000
DTEND;TZID=Europe/Amsterdam:20211225T123000
DTSTAMP:20260421T231516
CREATED:20201027T142120Z
LAST-MODIFIED:20211223T105428Z
UID:5155-1640428200-1640435400@www.oudekerkscheveningen.nl
SUMMARY:Ds. B.H. Weegink
DESCRIPTION:
URL:https://www.oudekerkscheveningen.nl/event/ds-b-h-weegink-1e-kerstdag-2/
LOCATION:Oude Kerk Scheveningen\, Keizerstraat 8\, Scheveningen\, 2584 BJ
CATEGORIES:Kerkdienst
ATTACH;FMTTYPE=image/jpeg:https://www.oudekerkscheveningen.nl/wp-content/uploads/2020/10/1ste-kerstdag.jpg
END:VEVENT
BEGIN:VEVENT
DTSTART;TZID=Europe/Amsterdam:20211226T103000
DTEND;TZID=Europe/Amsterdam:20211226T123000
DTSTAMP:20260421T231516
CREATED:20201027T142240Z
LAST-MODIFIED:20211205T145631Z
UID:5157-1640514600-1640521800@www.oudekerkscheveningen.nl
SUMMARY:Ds. A. van Duinen (Loosdrecht)
DESCRIPTION:
URL:https://www.oudekerkscheveningen.nl/event/ds-a-van-duinen-loosdrecht/
LOCATION:Oude Kerk Scheveningen\, Keizerstraat 8\, Scheveningen\, 2584 BJ
CATEGORIES:Kerkdienst
ATTACH;FMTTYPE=image/jpeg:https://www.oudekerkscheveningen.nl/wp-content/uploads/2020/10/vallende-ster-1.jpg
END:VEVENT
BEGIN:VEVENT
DTSTART;TZID=Europe/Amsterdam:20211231T160000
DTEND;TZID=Europe/Amsterdam:20211231T173000
DTSTAMP:20260421T231516
CREATED:20201027T142449Z
LAST-MODIFIED:20211219T125137Z
UID:5160-1640966400-1640971800@www.oudekerkscheveningen.nl
SUMMARY:Ds. B.H. Weegink Oudejaarsdag
DESCRIPTION:
URL:https://www.oudekerkscheveningen.nl/event/ds-b-h-weegink-oudejaarsdag-2/
LOCATION:Oude Kerk Scheveningen\, Keizerstraat 8\, Scheveningen\, 2584 BJ
CATEGORIES:Kerkdienst
ATTACH;FMTTYPE=image/jpeg:https://www.oudekerkscheveningen.nl/wp-content/uploads/2020/10/zandloper-1.jpg
END:VEVENT
BEGIN:VEVENT
DTSTART;TZID=Europe/Amsterdam:20220101T103000
DTEND;TZID=Europe/Amsterdam:20220101T123000
DTSTAMP:20260421T231516
CREATED:20211024T124811Z
LAST-MODIFIED:20211226T133520Z
UID:7174-1641033000-1641040200@www.oudekerkscheveningen.nl
SUMMARY:Gezamenlijke dienst PGS
DESCRIPTION:
URL:https://www.oudekerkscheveningen.nl/event/gezamelijke-dienst-pgs/
LOCATION:Oude Kerk Scheveningen\, Keizerstraat 8\, Scheveningen\, 2584 BJ
CATEGORIES:Kerkdienst
ATTACH;FMTTYPE=image/png:https://www.oudekerkscheveningen.nl/wp-content/uploads/2021/10/Logo-PGS-e1639992765784.png
END:VEVENT
BEGIN:VEVENT
DTSTART;TZID=Europe/Amsterdam:20220102T103000
DTEND;TZID=Europe/Amsterdam:20220102T123000
DTSTAMP:20260421T231516
CREATED:20211024T124418Z
LAST-MODIFIED:20211226T071808Z
UID:7171-1641119400-1641126600@www.oudekerkscheveningen.nl
SUMMARY:Ds. A. van Vuuren (Capelle a.d. IJssel)
DESCRIPTION:
URL:https://www.oudekerkscheveningen.nl/event/10-30-tot-12-00-ds-a-van-vuuren-capelle-a-d-ijssel/
LOCATION:Oude Kerk Scheveningen\, Keizerstraat 8\, Scheveningen\, 2584 BJ
CATEGORIES:Kerkdienst
ATTACH;FMTTYPE=image/jpeg:https://www.oudekerkscheveningen.nl/wp-content/uploads/2021/10/IMG_2728.jpg
END:VEVENT
BEGIN:VEVENT
DTSTART;TZID=Europe/Amsterdam:20220109T103000
DTEND;TZID=Europe/Amsterdam:20220109T123000
DTSTAMP:20260421T231516
CREATED:20211024T124946Z
LAST-MODIFIED:20211226T125257Z
UID:7176-1641724200-1641731400@www.oudekerkscheveningen.nl
SUMMARY:Ds. Barend H. Weegink
DESCRIPTION:
URL:https://www.oudekerkscheveningen.nl/event/ds-barend-h-weegink/
LOCATION:Oude Kerk Scheveningen\, Keizerstraat 8\, Scheveningen\, 2584 BJ
CATEGORIES:Kerkdienst
ATTACH;FMTTYPE=image/jpeg:https://www.oudekerkscheveningen.nl/wp-content/uploads/2021/10/DJI_0073.jpg
END:VEVENT
BEGIN:VEVENT
DTSTART;TZID=Europe/Amsterdam:20220116T103000
DTEND;TZID=Europe/Amsterdam:20220116T123000
DTSTAMP:20260421T231516
CREATED:20211024T125138Z
LAST-MODIFIED:20220105T100821Z
UID:7178-1642329000-1642336200@www.oudekerkscheveningen.nl
SUMMARY:Ds. J. Quist
DESCRIPTION:
URL:https://www.oudekerkscheveningen.nl/event/ds-j-quist-vb-ha/
LOCATION:Oude Kerk Scheveningen\, Keizerstraat 8\, Scheveningen\, 2584 BJ
CATEGORIES:Kerkdienst
ATTACH;FMTTYPE=image/jpeg:https://www.oudekerkscheveningen.nl/wp-content/uploads/2021/10/IMG_4979.jpg
END:VEVENT
END:VCALENDAR