BEGIN:VCALENDAR
VERSION:2.0
PRODID:-//Oude Kerk Scheveningen - ECPv6.15.17.1//NONSGML v1.0//EN
CALSCALE:GREGORIAN
METHOD:PUBLISH
X-ORIGINAL-URL:https://www.oudekerkscheveningen.nl
X-WR-CALDESC:Evenementen voor Oude Kerk Scheveningen
REFRESH-INTERVAL;VALUE=DURATION:PT1H
X-Robots-Tag:noindex
X-PUBLISHED-TTL:PT1H
BEGIN:VTIMEZONE
TZID:UTC
BEGIN:STANDARD
TZOFFSETFROM:+0000
TZOFFSETTO:+0000
TZNAME:UTC
DTSTART:20190101T000000
END:STANDARD
END:VTIMEZONE
BEGIN:VTIMEZONE
TZID:Europe/Amsterdam
BEGIN:DAYLIGHT
TZOFFSETFROM:+0100
TZOFFSETTO:+0200
TZNAME:CEST
DTSTART:20190331T010000
END:DAYLIGHT
BEGIN:STANDARD
TZOFFSETFROM:+0200
TZOFFSETTO:+0100
TZNAME:CET
DTSTART:20191027T010000
END:STANDARD
BEGIN:DAYLIGHT
TZOFFSETFROM:+0100
TZOFFSETTO:+0200
TZNAME:CEST
DTSTART:20200329T010000
END:DAYLIGHT
BEGIN:STANDARD
TZOFFSETFROM:+0200
TZOFFSETTO:+0100
TZNAME:CET
DTSTART:20201025T010000
END:STANDARD
BEGIN:DAYLIGHT
TZOFFSETFROM:+0100
TZOFFSETTO:+0200
TZNAME:CEST
DTSTART:20210328T010000
END:DAYLIGHT
BEGIN:STANDARD
TZOFFSETFROM:+0200
TZOFFSETTO:+0100
TZNAME:CET
DTSTART:20211031T010000
END:STANDARD
BEGIN:DAYLIGHT
TZOFFSETFROM:+0100
TZOFFSETTO:+0200
TZNAME:CEST
DTSTART:20220327T010000
END:DAYLIGHT
BEGIN:STANDARD
TZOFFSETFROM:+0200
TZOFFSETTO:+0100
TZNAME:CET
DTSTART:20221030T010000
END:STANDARD
END:VTIMEZONE
BEGIN:VEVENT
DTSTART;TZID=UTC:20201025T103000
DTEND;TZID=UTC:20201025T103000
DTSTAMP:20260423T232715
CREATED:20200302T091918Z
LAST-MODIFIED:20201124T204059Z
UID:1849-1603621800-1603621800@www.oudekerkscheveningen.nl
SUMMARY:Ds. B.H. Weegink.
DESCRIPTION:
URL:https://www.oudekerkscheveningen.nl/event/ds-b-h-weegink-12/
CATEGORIES:Kerkdienst
END:VEVENT
BEGIN:VEVENT
DTSTART;TZID=Europe/Amsterdam:20201101T103000
DTEND;TZID=Europe/Amsterdam:20201101T120000
DTSTAMP:20260423T232715
CREATED:20201005T192823Z
LAST-MODIFIED:20201124T204212Z
UID:4790-1604226600-1604232000@www.oudekerkscheveningen.nl
SUMMARY:Ds. G.E. van der Hout
DESCRIPTION:
URL:https://www.oudekerkscheveningen.nl/event/ds-g-e-van-der-hout/
LOCATION:Oude Kerk Scheveningen\, Keizerstraat 8\, Scheveningen\, 2584 BJ
CATEGORIES:Kerkdienst
ATTACH;FMTTYPE=image/jpeg:https://www.oudekerkscheveningen.nl/wp-content/uploads/2020/03/book-2073022__4801.jpg
END:VEVENT
BEGIN:VEVENT
DTSTART;TZID=UTC:20201108T103000
DTEND;TZID=UTC:20201108T103000
DTSTAMP:20260423T232715
CREATED:20200302T092402Z
LAST-MODIFIED:20201124T204059Z
UID:1856-1604831400-1604831400@www.oudekerkscheveningen.nl
SUMMARY:Ds. B.H. Weegink. Dankstond
DESCRIPTION:
URL:https://www.oudekerkscheveningen.nl/event/ds-b-h-weegink-13/
LOCATION:Oude Kerk Scheveningen\, Keizerstraat 8\, Scheveningen\, 2584 BJ
CATEGORIES:Kerkdienst
ATTACH;FMTTYPE=image/jpeg:https://www.oudekerkscheveningen.nl/wp-content/uploads/2020/03/brood-vissen.jpg
END:VEVENT
BEGIN:VEVENT
DTSTART;TZID=UTC:20201122T103000
DTEND;TZID=UTC:20201122T103000
DTSTAMP:20260423T232715
CREATED:20200302T092657Z
LAST-MODIFIED:20201124T204100Z
UID:1861-1606041000-1606041000@www.oudekerkscheveningen.nl
SUMMARY:Ds. B.H. Weegink. Einde van het kerkelijk jaar
DESCRIPTION:
URL:https://www.oudekerkscheveningen.nl/event/ds-b-h-weegink-einde-van-het-kerkelijk-jaar/
LOCATION:Oude Kerk Scheveningen\, Keizerstraat 8\, Scheveningen\, 2584 BJ
CATEGORIES:Kerkdienst
ATTACH;FMTTYPE=image/jpeg:https://www.oudekerkscheveningen.nl/wp-content/uploads/2020/03/kaars-22-11.jpg
END:VEVENT
BEGIN:VEVENT
DTSTART;TZID=UTC:20201129T103000
DTEND;TZID=UTC:20201129T103000
DTSTAMP:20260423T232715
CREATED:20200302T092824Z
LAST-MODIFIED:20201124T204213Z
UID:1863-1606645800-1606645800@www.oudekerkscheveningen.nl
SUMMARY:Ds. F.J. van Harten. 1e Advent
DESCRIPTION:
URL:https://www.oudekerkscheveningen.nl/event/ds-f-j-van-harten-den-haag-1e-advent/
LOCATION:Oude Kerk Scheveningen\, Keizerstraat 8\, Scheveningen\, 2584 BJ
CATEGORIES:Kerkdienst
ATTACH;FMTTYPE=image/jpeg:https://www.oudekerkscheveningen.nl/wp-content/uploads/2020/03/1st-advent.jpg
END:VEVENT
BEGIN:VEVENT
DTSTART;TZID=UTC:20201206T103000
DTEND;TZID=UTC:20201206T103000
DTSTAMP:20260423T232715
CREATED:20200302T093023Z
LAST-MODIFIED:20201124T204100Z
UID:1865-1607250600-1607250600@www.oudekerkscheveningen.nl
SUMMARY:Ds. B.H. Weegink. 2e Advent
DESCRIPTION:
URL:https://www.oudekerkscheveningen.nl/event/ds-b-h-weegink-2e-advent/
LOCATION:Oude Kerk Scheveningen\, Keizerstraat 8\, Scheveningen\, 2584 BJ
CATEGORIES:Kerkdienst
ATTACH;FMTTYPE=image/jpeg:https://www.oudekerkscheveningen.nl/wp-content/uploads/2020/03/advent-2.jpg
END:VEVENT
BEGIN:VEVENT
DTSTART;TZID=UTC:20201213T103000
DTEND;TZID=UTC:20201213T103000
DTSTAMP:20260423T232715
CREATED:20200302T093125Z
LAST-MODIFIED:20201124T214803Z
UID:1867-1607855400-1607855400@www.oudekerkscheveningen.nl
SUMMARY:Ds. B.H. Weegink. 3e Advent
DESCRIPTION:
URL:https://www.oudekerkscheveningen.nl/event/ds-b-h-weegink-3e-advent/
LOCATION:Oude Kerk Scheveningen\, Keizerstraat 8\, Scheveningen\, 2584 BJ
CATEGORIES:Kerkdienst
ATTACH;FMTTYPE=image/jpeg:https://www.oudekerkscheveningen.nl/wp-content/uploads/2020/03/advent-3de.jpg
END:VEVENT
BEGIN:VEVENT
DTSTART;TZID=UTC:20201220T103000
DTEND;TZID=UTC:20201220T103000
DTSTAMP:20260423T232715
CREATED:20200302T093257Z
LAST-MODIFIED:20201125T071714Z
UID:1869-1608460200-1608460200@www.oudekerkscheveningen.nl
SUMMARY:Ds. D.M. Heikoop (Katwijk aan Zee) 4e Advent
DESCRIPTION:
URL:https://www.oudekerkscheveningen.nl/event/ds-d-m-heikoop-katwijk-aan-zee-4e-advent/
LOCATION:Oude Kerk Scheveningen\, Keizerstraat 8\, Scheveningen\, 2584 BJ
CATEGORIES:Kerkdienst
ATTACH;FMTTYPE=image/jpeg:https://www.oudekerkscheveningen.nl/wp-content/uploads/2020/03/advent-4.jpg
END:VEVENT
BEGIN:VEVENT
DTSTART;TZID=UTC:20201225T000000
DTEND;TZID=UTC:20201225T120000
DTSTAMP:20260423T232715
CREATED:20200409T075940Z
LAST-MODIFIED:20201225T122530Z
UID:3221-1608854400-1608897600@www.oudekerkscheveningen.nl
SUMMARY:1e Kerstdag Ds. B.H. Weegink
DESCRIPTION:
URL:https://www.oudekerkscheveningen.nl/event/1e-kerstdag/
LOCATION:Oude Kerk Scheveningen\, Keizerstraat 8\, Scheveningen\, 2584 BJ
CATEGORIES:Kerkdienst
ATTACH;FMTTYPE=image/png:https://www.oudekerkscheveningen.nl/wp-content/uploads/2020/10/Afbeelding8-e1606654477907.png
END:VEVENT
BEGIN:VEVENT
DTSTART;TZID=UTC:20201227T103000
DTEND;TZID=UTC:20201227T120000
DTSTAMP:20260423T232715
CREATED:20200302T093638Z
LAST-MODIFIED:20201225T125614Z
UID:1875-1609065000-1609070400@www.oudekerkscheveningen.nl
SUMMARY:Ds. H.G. de Graaff (Nieuwerbrug)
DESCRIPTION:
URL:https://www.oudekerkscheveningen.nl/event/ds-h-g-de-graaff-nieuwerbrug-2/
LOCATION:Oude Kerk Scheveningen\, Keizerstraat 8\, Scheveningen\, 2584 BJ
CATEGORIES:Kerkdienst
ATTACH;FMTTYPE=image/jpeg:https://www.oudekerkscheveningen.nl/wp-content/uploads/2020/03/DSCN4515.jpg
END:VEVENT
BEGIN:VEVENT
DTSTART;TZID=UTC:20201231T190000
DTEND;TZID=UTC:20201231T200000
DTSTAMP:20260423T232715
CREATED:20200302T093748Z
LAST-MODIFIED:20201231T204108Z
UID:1877-1609441200-1609444800@www.oudekerkscheveningen.nl
SUMMARY:Ds. B.H. Weegink. Oudejaarsdag
DESCRIPTION:
URL:https://www.oudekerkscheveningen.nl/event/ds-b-h-weegink-oudejaarsdag/
LOCATION:Oude Kerk Scheveningen\, Keizerstraat 8\, Scheveningen\, 2584 BJ
CATEGORIES:Kerkdienst
ATTACH;FMTTYPE=image/jpeg:https://www.oudekerkscheveningen.nl/wp-content/uploads/2020/03/oudjaar.jpg
END:VEVENT
BEGIN:VEVENT
DTSTART;TZID=Europe/Amsterdam:20210101T103000
DTEND;TZID=Europe/Amsterdam:20210101T110000
DTSTAMP:20260423T232715
CREATED:20200618T123859Z
LAST-MODIFIED:20210101T110333Z
UID:3891-1609497000-1609498800@www.oudekerkscheveningen.nl
SUMMARY:Gezamelijke dienst AK. in Pr. Julianakerk
DESCRIPTION:
URL:https://www.oudekerkscheveningen.nl/event/gezamelijke-dienst-ak/
LOCATION:PJK Nieboerweg
CATEGORIES:Kerkdienst
ATTACH;FMTTYPE=image/png:https://www.oudekerkscheveningen.nl/wp-content/uploads/2020/06/4-kerken-2.png
END:VEVENT
BEGIN:VEVENT
DTSTART;TZID=Europe/Amsterdam:20210103T103000
DTEND;TZID=Europe/Amsterdam:20210103T120000
DTSTAMP:20260423T232715
CREATED:20200618T150154Z
LAST-MODIFIED:20201225T125203Z
UID:3946-1609669800-1609675200@www.oudekerkscheveningen.nl
SUMMARY:Ds. A.W. van der Plas (Waddinxveen)
DESCRIPTION:
URL:https://www.oudekerkscheveningen.nl/event/ds-a-w-van-der-plas-waddinxveen/
LOCATION:Oude Kerk Scheveningen\, Keizerstraat 8\, Scheveningen\, 2584 BJ
CATEGORIES:Kerkdienst
ATTACH;FMTTYPE=image/jpeg:https://www.oudekerkscheveningen.nl/wp-content/uploads/2020/06/IMG_3746.jpg
END:VEVENT
BEGIN:VEVENT
DTSTART;TZID=Europe/Amsterdam:20210110T103000
DTEND;TZID=Europe/Amsterdam:20210110T110000
DTSTAMP:20260423T232715
CREATED:20200618T150502Z
LAST-MODIFIED:20210110T123747Z
UID:3949-1610274600-1610276400@www.oudekerkscheveningen.nl
SUMMARY:Ds. B.H. Weegink (Katwijk aan Zee)
DESCRIPTION:
URL:https://www.oudekerkscheveningen.nl/event/ds-b-h-weegink-katwijk-aan-zee/
LOCATION:Oude Kerk Scheveningen\, Keizerstraat 8\, Scheveningen\, 2584 BJ
CATEGORIES:Kerkdienst
ATTACH;FMTTYPE=image/jpeg:https://www.oudekerkscheveningen.nl/wp-content/uploads/2020/02/DSC03913-scaled.jpg
END:VEVENT
BEGIN:VEVENT
DTSTART;TZID=Europe/Amsterdam:20210117T103000
DTEND;TZID=Europe/Amsterdam:20210117T120000
DTSTAMP:20260423T232715
CREATED:20200618T150726Z
LAST-MODIFIED:20210105T164007Z
UID:3952-1610879400-1610884800@www.oudekerkscheveningen.nl
SUMMARY:Ds. W.H.B. ten Voorde(Nunspeet)
DESCRIPTION:
URL:https://www.oudekerkscheveningen.nl/event/ds-f-wijnhorst-katwijk-aan-zee-2/
LOCATION:Oude Kerk Scheveningen\, Keizerstraat 8\, Scheveningen\, 2584 BJ
CATEGORIES:Kerkdienst
ATTACH;FMTTYPE=image/jpeg:https://www.oudekerkscheveningen.nl/wp-content/uploads/2020/02/DSCN1757-scaled.jpg
END:VEVENT
BEGIN:VEVENT
DTSTART;TZID=Europe/Amsterdam:20210124T103000
DTEND;TZID=Europe/Amsterdam:20210124T120000
DTSTAMP:20260423T232715
CREATED:20200618T151434Z
LAST-MODIFIED:20210101T120803Z
UID:3957-1611484200-1611489600@www.oudekerkscheveningen.nl
SUMMARY:Ds. B.H. Weegink (Katwijk aan Zee)
DESCRIPTION:
URL:https://www.oudekerkscheveningen.nl/event/ds-b-h-weegink-katwijk-aan-zee-heilig-avondmaal/
LOCATION:Oude Kerk Scheveningen\, Keizerstraat 8\, Scheveningen\, 2584 BJ
CATEGORIES:Kerkdienst
ATTACH;FMTTYPE=image/jpeg:https://www.oudekerkscheveningen.nl/wp-content/uploads/2020/06/IMG_3142.jpg
END:VEVENT
BEGIN:VEVENT
DTSTART;TZID=Europe/Amsterdam:20210131T103000
DTEND;TZID=Europe/Amsterdam:20210131T120000
DTSTAMP:20260423T232715
CREATED:20200618T151700Z
LAST-MODIFIED:20210103T142010Z
UID:3960-1612089000-1612094400@www.oudekerkscheveningen.nl
SUMMARY:Ds. F. van den Bosch (Katwijk aan Zee)
DESCRIPTION:
URL:https://www.oudekerkscheveningen.nl/event/ds-f-van-den-bosch-katwijk-aan-zee/
LOCATION:Oude Kerk Scheveningen\, Keizerstraat 8\, Scheveningen\, 2584 BJ
CATEGORIES:Kerkdienst
ATTACH;FMTTYPE=image/jpeg:https://www.oudekerkscheveningen.nl/wp-content/uploads/2020/06/IMG_3746.jpg
END:VEVENT
BEGIN:VEVENT
DTSTART;TZID=Europe/Amsterdam:20210207T103000
DTEND;TZID=Europe/Amsterdam:20210207T120000
DTSTAMP:20260423T232715
CREATED:20201026T182150Z
LAST-MODIFIED:20210110T124613Z
UID:5050-1612693800-1612699200@www.oudekerkscheveningen.nl
SUMMARY:Ds. B.H. Weegink (Katwijk aan Zee)
DESCRIPTION:
URL:https://www.oudekerkscheveningen.nl/event/10-30-ds-b-h-weegink-2/
LOCATION:Oude Kerk Scheveningen\, Keizerstraat 8\, Scheveningen\, 2584 BJ
CATEGORIES:Kerkdienst
ATTACH;FMTTYPE=image/jpeg:https://www.oudekerkscheveningen.nl/wp-content/uploads/2020/02/DSC03913-scaled.jpg
END:VEVENT
BEGIN:VEVENT
DTSTART;TZID=Europe/Amsterdam:20210214T103000
DTEND;TZID=Europe/Amsterdam:20210214T120000
DTSTAMP:20260423T232715
CREATED:20201026T182405Z
LAST-MODIFIED:20210117T125332Z
UID:5052-1613298600-1613304000@www.oudekerkscheveningen.nl
SUMMARY:Ds. J. Quist (Scheveningen)
DESCRIPTION:
URL:https://www.oudekerkscheveningen.nl/event/10-30-ds-j-quist/
LOCATION:Oude Kerk Scheveningen\, Keizerstraat 8\, Scheveningen\, 2584 BJ
CATEGORIES:Kerkdienst
ATTACH;FMTTYPE=image/jpeg:https://www.oudekerkscheveningen.nl/wp-content/uploads/2020/03/DSCN4515.jpg
END:VEVENT
BEGIN:VEVENT
DTSTART;TZID=Europe/Amsterdam:20210221T103000
DTEND;TZID=Europe/Amsterdam:20210221T120000
DTSTAMP:20260423T232715
CREATED:20201026T182553Z
LAST-MODIFIED:20210124T125932Z
UID:5054-1613903400-1613908800@www.oudekerkscheveningen.nl
SUMMARY:Ds. B.H. Weegink (Katwijk aan Zee)
DESCRIPTION:
URL:https://www.oudekerkscheveningen.nl/event/10-30-ds-b-h-weegink-3/
LOCATION:Oude Kerk Scheveningen\, Keizerstraat 8\, Scheveningen\, 2584 BJ
CATEGORIES:Kerkdienst
ATTACH;FMTTYPE=image/jpeg:https://www.oudekerkscheveningen.nl/wp-content/uploads/2020/06/IMG_3142.jpg
END:VEVENT
BEGIN:VEVENT
DTSTART;TZID=Europe/Amsterdam:20210228T103000
DTEND;TZID=Europe/Amsterdam:20210228T120000
DTSTAMP:20260423T232715
CREATED:20201026T182711Z
LAST-MODIFIED:20210131T133922Z
UID:5056-1614508200-1614513600@www.oudekerkscheveningen.nl
SUMMARY:Ds. D.J. Thijs (Scheveningen)
DESCRIPTION:
URL:https://www.oudekerkscheveningen.nl/event/10-30-ds-d-j-thijs/
LOCATION:Oude Kerk Scheveningen\, Keizerstraat 8\, Scheveningen\, 2584 BJ
CATEGORIES:Kerkdienst
ATTACH;FMTTYPE=image/jpeg:https://www.oudekerkscheveningen.nl/wp-content/uploads/2020/06/IMG_3746.jpg
END:VEVENT
BEGIN:VEVENT
DTSTART;TZID=Europe/Amsterdam:20210307T103000
DTEND;TZID=Europe/Amsterdam:20210307T120000
DTSTAMP:20260423T232715
CREATED:20201026T182916Z
LAST-MODIFIED:20210221T140732Z
UID:5058-1615113000-1615118400@www.oudekerkscheveningen.nl
SUMMARY:Ds. B.H. Weegink (Katwijk aan Zee)
DESCRIPTION:
URL:https://www.oudekerkscheveningen.nl/event/10-30-ds-b-h-weegink-4/
LOCATION:Oude Kerk Scheveningen\, Keizerstraat 8\, Scheveningen\, 2584 BJ
CATEGORIES:Kerkdienst
ATTACH;FMTTYPE=image/jpeg:https://www.oudekerkscheveningen.nl/wp-content/uploads/2020/02/DSC03913-scaled.jpg
END:VEVENT
BEGIN:VEVENT
DTSTART;TZID=Europe/Amsterdam:20210314T103000
DTEND;TZID=Europe/Amsterdam:20210314T120000
DTSTAMP:20260423T232715
CREATED:20210214T121311Z
LAST-MODIFIED:20210214T163834Z
UID:6234-1615717800-1615723200@www.oudekerkscheveningen.nl
SUMMARY:Ds. J. Maasland     (Den Haag)
DESCRIPTION:
URL:https://www.oudekerkscheveningen.nl/event/ds-j-maasland-2/
LOCATION:Oude Kerk Scheveningen\, Keizerstraat 8\, Scheveningen\, 2584 BJ
CATEGORIES:Kerkdienst
ATTACH;FMTTYPE=image/jpeg:https://www.oudekerkscheveningen.nl/wp-content/uploads/2020/03/DSCN4515.jpg
END:VEVENT
BEGIN:VEVENT
DTSTART;TZID=Europe/Amsterdam:20210321T103000
DTEND;TZID=Europe/Amsterdam:20210321T110000
DTSTAMP:20260423T232715
CREATED:20201026T183207Z
LAST-MODIFIED:20210321T120748Z
UID:5063-1616322600-1616324400@www.oudekerkscheveningen.nl
SUMMARY:Ds. B.H. Weegink Heilige Doop
DESCRIPTION:
URL:https://www.oudekerkscheveningen.nl/event/10-30-ds-b-h-weegink-5/
LOCATION:Oude Kerk Scheveningen\, Keizerstraat 8\, Scheveningen\, 2584 BJ
CATEGORIES:Kerkdienst
ATTACH;FMTTYPE=image/jpeg:https://www.oudekerkscheveningen.nl/wp-content/uploads/2020/10/doopvont-3.jpg
END:VEVENT
BEGIN:VEVENT
DTSTART;TZID=Europe/Amsterdam:20210328T103000
DTEND;TZID=Europe/Amsterdam:20210328T120000
DTSTAMP:20260423T232715
CREATED:20201026T183353Z
LAST-MODIFIED:20210307T114730Z
UID:5065-1616927400-1616932800@www.oudekerkscheveningen.nl
SUMMARY:Ds. E. van Rooijen (Noordeloos)
DESCRIPTION:
URL:https://www.oudekerkscheveningen.nl/event/10-30-ds-e-van-rooijen-noordeloos/
LOCATION:Oude Kerk Scheveningen\, Keizerstraat 8\, Scheveningen\, 2584 BJ
CATEGORIES:Kerkdienst
ATTACH;FMTTYPE=image/jpeg:https://www.oudekerkscheveningen.nl/wp-content/uploads/2020/06/IMG_3746.jpg
END:VEVENT
BEGIN:VEVENT
DTSTART;TZID=Europe/Amsterdam:20210402T193000
DTEND;TZID=Europe/Amsterdam:20210402T210000
DTSTAMP:20260423T232715
CREATED:20201026T183615Z
LAST-MODIFIED:20210314T140316Z
UID:5067-1617391800-1617397200@www.oudekerkscheveningen.nl
SUMMARY:Ds. B.H. Weegink Heilig Avondmaal
DESCRIPTION:
URL:https://www.oudekerkscheveningen.nl/event/19-30-ds-b-h-weegink-h-a/
LOCATION:Oude Kerk Scheveningen\, Keizerstraat 8\, Scheveningen\, 2584 BJ
CATEGORIES:Kerkdienst
ATTACH;FMTTYPE=image/jpeg:https://www.oudekerkscheveningen.nl/wp-content/uploads/2020/10/zilver-stel.-2.jpg
END:VEVENT
BEGIN:VEVENT
DTSTART;TZID=Europe/Amsterdam:20210404T103000
DTEND;TZID=Europe/Amsterdam:20210404T120000
DTSTAMP:20260423T232715
CREATED:20201026T183805Z
LAST-MODIFIED:20210314T141803Z
UID:5069-1617532200-1617537600@www.oudekerkscheveningen.nl
SUMMARY:Ds. B.H. Weegink Eerste Paasdag
DESCRIPTION:
URL:https://www.oudekerkscheveningen.nl/event/10-30-ds-b-h-weegink-1e-paasdag/
LOCATION:Oude Kerk Scheveningen\, Keizerstraat 8\, Scheveningen\, 2584 BJ
CATEGORIES:Kerkdienst
ATTACH;FMTTYPE=image/jpeg:https://www.oudekerkscheveningen.nl/wp-content/uploads/2020/10/open-graf.jpg
END:VEVENT
BEGIN:VEVENT
DTSTART;TZID=Europe/Amsterdam:20210411T103000
DTEND;TZID=Europe/Amsterdam:20210411T120000
DTSTAMP:20260423T232715
CREATED:20201026T183957Z
LAST-MODIFIED:20210404T135403Z
UID:5071-1618137000-1618142400@www.oudekerkscheveningen.nl
SUMMARY:Ds. A. van Duinen (Loosdrecht)
DESCRIPTION:
URL:https://www.oudekerkscheveningen.nl/event/10-30-ds-f-vd-bosch-katwijk-aan-zee/
LOCATION:Oude Kerk Scheveningen\, Keizerstraat 8\, Scheveningen\, 2584 BJ
CATEGORIES:Kerkdienst
ATTACH;FMTTYPE=image/jpeg:https://www.oudekerkscheveningen.nl/wp-content/uploads/2020/10/IMG_4163.jpg
END:VEVENT
BEGIN:VEVENT
DTSTART;TZID=Europe/Amsterdam:20210418T103000
DTEND;TZID=Europe/Amsterdam:20210418T120000
DTSTAMP:20260423T232715
CREATED:20201026T184153Z
LAST-MODIFIED:20210404T132850Z
UID:5074-1618741800-1618747200@www.oudekerkscheveningen.nl
SUMMARY:Ds. B.H. Weegink (Katwijk aan Zee)
DESCRIPTION:
URL:https://www.oudekerkscheveningen.nl/event/10-30-ds-b-h-weegink-6/
LOCATION:Oude Kerk Scheveningen\, Keizerstraat 8\, Scheveningen\, 2584 BJ
CATEGORIES:Kerkdienst
ATTACH;FMTTYPE=image/jpeg:https://www.oudekerkscheveningen.nl/wp-content/uploads/2020/03/DSCN4515.jpg
END:VEVENT
BEGIN:VEVENT
DTSTART;TZID=Europe/Amsterdam:20210425T103000
DTEND;TZID=Europe/Amsterdam:20210425T120000
DTSTAMP:20260423T232715
CREATED:20201026T184320Z
LAST-MODIFIED:20210404T135755Z
UID:5076-1619346600-1619352000@www.oudekerkscheveningen.nl
SUMMARY:Ds. H. E. J. v.d. Laan (Valkenburg ZH)
DESCRIPTION:
URL:https://www.oudekerkscheveningen.nl/event/10-30-ds-h-e-j-vd-laan-valkenburg-zh/
LOCATION:Oude Kerk Scheveningen\, Keizerstraat 8\, Scheveningen\, 2584 BJ
CATEGORIES:Kerkdienst
ATTACH;FMTTYPE=image/jpeg:https://www.oudekerkscheveningen.nl/wp-content/uploads/2020/02/DSC03913-scaled.jpg
END:VEVENT
END:VCALENDAR